BEGIN:VCALENDAR
VERSION:2.0
PRODID:-//ChamberMaster//Event Calendar 2.0//EN
METHOD:PUBLISH
X-PUBLISHED-TTL:P3D
REFRESH-INTERVAL:P3D
CALSCALE:GREGORIAN
BEGIN:VEVENT
DTSTART:20110606T140000Z
DTEND:20110607T020000Z
X-MICROSOFT-CDO-ALLDAYEVENT:FALSE
SUMMARY:Merrimack Valley Job Fair
DESCRIPTION:Job Fair Presented by ValleyWorks Career Center Meet with local employers.
X-ALT-DESC;FMTTYPE=text/html:Job Fair Presented by ValleyWorks Career Center Meet with local employers.
LOCATION:Northern Essex Community College Technology Center 100 Elliott Street Haverhill 01930
UID:e.1189.1857
SEQUENCE:3
DTSTAMP:20260420T020300Z
URL:https://business.newburyportchamber.org/events/details/merrimack-valley-job-fair-06-06-2011-1857
END:VEVENT

END:VCALENDAR
