BEGIN:VCALENDAR
VERSION:2.0
PRODID:-//ChamberMaster//Event Calendar 2.0//EN
METHOD:PUBLISH
X-PUBLISHED-TTL:P3D
REFRESH-INTERVAL:P3D
CALSCALE:GREGORIAN
BEGIN:VEVENT
DTSTART:20111203T010000Z
DTEND:20111203T023000Z
X-MICROSOFT-CDO-ALLDAYEVENT:FALSE
SUMMARY:Merrimack Valley Concert Band at Firehouse Center for the Arts
DESCRIPTION:Contemporary/pop\, movie scores\, Broadway\, swing and ballroom dance\, big band\, and traditional marches are all part of the Merrimack Valley Concert Band repertoire. The group\, a non-profit community concert band made up of individuals who share a love of music\, currently boasts 50 members\; and\, as of September\, are lead by their new conductor Anthony Beatrice (also the band leader at the Pentucket Middle High School).
X-ALT-DESC;FMTTYPE=text/html:Contemporary/pop\, movie scores\, Broadway\, swing and ballroom dance\, big band\, and traditional marches are all part of the <strong>Merrimack Valley Concert Band </strong>repertoire. The group\, a non-profit community concert band made up of individuals who share a love of music\, currently boasts 50 members\; and\, as of September\, are lead by their new conductor <strong>Anthony Beatrice</strong> (also the band leader at the Pentucket Middle High School). 
LOCATION:Firehouse Center for the Arts Market Square Newburyport MA 01950
UID:e.1189.2345
SEQUENCE:3
DTSTAMP:20260419T161556Z
URL:https://business.newburyportchamber.org/events/details/merrimack-valley-concert-band-at-firehouse-center-for-the-arts-12-02-2011-2345
END:VEVENT

END:VCALENDAR
