BEGIN:VCALENDAR
VERSION:2.0
PRODID:-//ChamberMaster//Event Calendar 2.0//EN
METHOD:PUBLISH
X-PUBLISHED-TTL:P3D
REFRESH-INTERVAL:P3D
CALSCALE:GREGORIAN
BEGIN:VEVENT
DTSTART:20090122T050000Z
DTEND:20090122T050000Z
X-MICROSOFT-CDO-ALLDAYEVENT:FALSE
SUMMARY:Membership Committee Meeting - January
DESCRIPTION:Monthly meeting of the Membership Committee* 4th Thursday of the month RSVP to Patty St. John at pstjohn@newburyportchamber.org
X-ALT-DESC;FMTTYPE=text/html:<DIV style="FONT-FAMILY: Arial">Monthly meeting of the Membership Committee</DIV><DIV style="FONT-FAMILY: Arial">* 4th Thursday of the month</DIV><DIV style="FONT-FAMILY: Arial">&nbsp\;</DIV><DIV style="FONT-FAMILY: Arial">RSVP to Patty St. John at <A href="mailto:pstjohn@newburyportchamber.org">pstjohn@newburyportchamber.org</A></DIV><DIV style="FONT-FAMILY: Arial">&nbsp\;</DIV><DIV style="FONT-FAMILY: Arial">&nbsp\;</DIV>
LOCATION:Gtr. Newburyport Chamber of Commerce & Industry
UID:e.1189.1106
SEQUENCE:3
DTSTAMP:20260422T074821Z
URL:https://business.newburyportchamber.org/events/details/membership-committee-meeting-january-01-22-2009-1106
END:VEVENT

END:VCALENDAR
