BEGIN:VCALENDAR
VERSION:2.0
PRODID:-//ChamberMaster//Event Calendar 2.0//EN
METHOD:PUBLISH
X-PUBLISHED-TTL:P3D
REFRESH-INTERVAL:P3D
CALSCALE:GREGORIAN
BEGIN:VEVENT
DTSTART:20081218T050000Z
DTEND:20081218T050000Z
X-MICROSOFT-CDO-ALLDAYEVENT:FALSE
SUMMARY:Membership Committee Meeting - December
DESCRIPTION:Monthly meeting of the Membership CommitteeNOTE: New time this month - 9:00am! RSVP to Patty St. John at pstjohn@newburyportchamber.org
X-ALT-DESC;FMTTYPE=text/html:<DIV style="FONT-FAMILY: Arial">Monthly meeting of the Membership Committee</DIV><DIV style="FONT-FAMILY: Arial"><STRONG><FONT color=#ff0000>NOTE: New time this month - 9:00am!</FONT></STRONG></DIV><DIV style="FONT-FAMILY: Arial">&nbsp\;</DIV><DIV style="FONT-FAMILY: Arial">RSVP to Patty St. John at <A href="mailto:pstjohn@newburyportchamber.org">pstjohn@newburyportchamber.org</A></DIV><DIV style="FONT-FAMILY: Arial">&nbsp\;</DIV><DIV style="FONT-FAMILY: Arial">&nbsp\;</DIV>
LOCATION:Gtr. Newburyport Chamber of Commerce & Industry
UID:e.1189.1105
SEQUENCE:3
DTSTAMP:20260422T112301Z
URL:https://business.newburyportchamber.org/events/details/membership-committee-meeting-december-12-18-2008-1105
END:VEVENT

END:VCALENDAR
