BEGIN:VCALENDAR
VERSION:2.0
PRODID:-//ChamberMaster//Event Calendar 2.0//EN
METHOD:PUBLISH
X-PUBLISHED-TTL:P3D
REFRESH-INTERVAL:P3D
CALSCALE:GREGORIAN
BEGIN:VEVENT
DTSTART:20110120T050000Z
DTEND:20110120T050000Z
X-MICROSOFT-CDO-ALLDAYEVENT:FALSE
SUMMARY:Members Mixer - The Trump Network
DESCRIPTION:The Trump Network Welcome in the New Year with the first mixer of 2011! Network with chamber members in the beautiful offices of the Trump Network. Delicious hors d’oeuvres  *  Cocktails  *  Raffles 5:30 – 7:30pm
X-ALT-DESC;FMTTYPE=text/html:<P></P><SPAN style="FONT-FAMILY: Calibri"><P style="MARGIN: 0in 0in 0pt" class=MsoNormal><STRONG><SPAN style="FONT-FAMILY: Calibri\; FONT-SIZE: 14pt"><FONT color=#0080c0>The Trump Network</FONT></SPAN></STRONG></P><P style="MARGIN: 0in 0in 0pt" class=MsoNormal><SPAN style="FONT-FAMILY: Calibri\; FONT-SIZE: 14pt"><?xml:namespace prefix = o ns = "urn:schemas-microsoft-com:office:office" /><o:p></o:p></SPAN></P><P style="MARGIN: 0in 0in 0pt" class=MsoNormal><SPAN style="FONT-FAMILY: Calibri\; FONT-SIZE: 14pt"></SPAN>&nbsp\;</P><P style="MARGIN: 0in 0in 0pt" class=MsoNormal><SPAN style="FONT-FAMILY: Calibri\; FONT-SIZE: 14pt">Welcome in the New Year with the first mixer of 2011! Network with chamber members in the beautiful offices of the Trump Network.</SPAN></P><P style="MARGIN: 0in 0in 0pt" class=MsoNormal><SPAN style="FONT-FAMILY: Calibri\; FONT-SIZE: 14pt"><o:p>&nbsp\;</o:p></SPAN></P><P style="MARGIN: 0in 0in 0pt" class=MsoNormal><SPAN style="FONT-FAMILY: Calibri\; FONT-SIZE: 14pt">Delicious hors d’oeuvres<SPAN style="mso-spacerun: yes">&nbsp\; </SPAN>*<SPAN style="mso-spacerun: yes">&nbsp\; Cocktails&nbsp\;&nbsp\;</SPAN>*<SPAN style="mso-spacerun: yes">&nbsp\; Raffles</SPAN></SPAN></P><P style="MARGIN: 0in 0in 0pt" class=MsoNormal><?xml:namespace prefix = st1 ns = "urn:schemas-microsoft-com:office:smarttags" /><st1:time Minute="30" Hour="17"><SPAN style="FONT-FAMILY: Calibri\; FONT-SIZE: 14pt"></SPAN></st1:time>&nbsp\;</P><P style="MARGIN: 0in 0in 0pt" class=MsoNormal><st1:time Minute="30" Hour="17"><SPAN style="FONT-FAMILY: Calibri\; FONT-SIZE: 14pt">5:30 – 7:30pm</SPAN></st1:time><SPAN style="FONT-FAMILY: Calibri\; FONT-SIZE: 14pt"><o:p></o:p></SPAN></P><P></SPAN></P>
LOCATION:The Trump Network
UID:e.1189.1648
SEQUENCE:3
DTSTAMP:20260420T124401Z
URL:https://business.newburyportchamber.org/events/details/members-mixer-the-trump-network-01-20-2011-1648
END:VEVENT

END:VCALENDAR
