BEGIN:VCALENDAR
VERSION:2.0
PRODID:-//ChamberMaster//Event Calendar 2.0//EN
METHOD:PUBLISH
X-PUBLISHED-TTL:P3D
REFRESH-INTERVAL:P3D
CALSCALE:GREGORIAN
BEGIN:VEVENT
DTSTART:20090413T040000Z
DTEND:20090413T040000Z
X-MICROSOFT-CDO-ALLDAYEVENT:FALSE
SUMMARY:Members' Mixer - Ten Center Street Restaurant
DESCRIPTION:Hosted by Ten Center Street Restaurant & Wine BarNetwork in this fabulous\, funky restaurant.Historic and hip. Cozy and cool. Tasty and tantalizing.10 Center Street\nDowntown Newburyport\n\nEnjoy cocktails\, hors d'oeuvres & raffles \nCash Bar\n\n$5 Admission Members\n$10 Admission Non Members and Guests
X-ALT-DESC;FMTTYPE=text/html:<DIV style="FONT-FAMILY: Arial">Hosted by <STRONG><FONT color=#0000ff>Ten Center Street Restaurant &amp\; Wine Bar</FONT></STRONG></DIV><DIV style="FONT-FAMILY: Arial"><P>Network in this fabulous\, funky restaurant.</P><P>Historic and hip. Cozy and cool. Tasty and tantalizing.</P><P>10 Center Street<BR>Downtown Newburyport<BR><BR>Enjoy cocktails\, hors d'oeuvres &amp\; raffles&nbsp\;<BR>Cash Bar<BR><BR>$5 Admission Members<BR>$10 Admission Non Members and Guests</P></DIV><DIV style="FONT-FAMILY: Arial">&nbsp\;</DIV>
LOCATION:Ten Center Street Restaurant & Pub
UID:e.1189.1165
SEQUENCE:3
DTSTAMP:20260422T041951Z
URL:https://business.newburyportchamber.org/events/details/members-mixer-ten-center-street-restaurant-04-13-2009-1165
END:VEVENT

END:VCALENDAR
