BEGIN:VCALENDAR
VERSION:2.0
PRODID:-//ChamberMaster//Event Calendar 2.0//EN
METHOD:PUBLISH
X-PUBLISHED-TTL:P3D
REFRESH-INTERVAL:P3D
CALSCALE:GREGORIAN
BEGIN:VEVENT
DTSTART:20100113T050000Z
DTEND:20100113T050000Z
X-MICROSOFT-CDO-ALLDAYEVENT:FALSE
SUMMARY:Members Mixer - TD Bank
DESCRIPTION:Hosted by TD BankKick off the New Year with some great networking! TD Bank invites you to join them in their downtown offices and celebrate the name change and more!51 State Street\nDowntown Newburyport\n\nEnjoy cocktails\, hors d'oeuvres & rafflesBring your business cards and promotional materials for the display table.\n\nFree Admission
X-ALT-DESC;FMTTYPE=text/html:<P><FONT face=Arial><STRONG><EM>Hosted by <STRONG><FONT color=#008000>TD Bank</FONT></STRONG></P><DIV style="FONT-FAMILY: Arial"><P>Kick off the New Year with some great networking! TD Bank invites&nbsp\;you to join them in their downtown offices and celebrate the name change and more!</P><P>51 State Street<BR>Downtown Newburyport<BR><BR>Enjoy cocktails\, hors d'oeuvres &amp\; raffles</P><P>Bring your business cards and promotional materials for the display table.<BR><BR>Free Admission</P></DIV></EM></STRONG></FONT><A href="http://www.josephswinterstcafe.com"></A>
LOCATION:TD Bank
UID:e.1189.1352
SEQUENCE:3
DTSTAMP:20260421T114210Z
URL:https://business.newburyportchamber.org/events/details/members-mixer-td-bank-01-13-2010-1352
END:VEVENT

END:VCALENDAR
