BEGIN:VCALENDAR
VERSION:2.0
PRODID:-//ChamberMaster//Event Calendar 2.0//EN
METHOD:PUBLISH
X-PUBLISHED-TTL:P3D
REFRESH-INTERVAL:P3D
CALSCALE:GREGORIAN
BEGIN:VEVENT
DTSTART:20100415T040000Z
DTEND:20100415T040000Z
X-MICROSOFT-CDO-ALLDAYEVENT:FALSE
SUMMARY:Members Mixer -Sports Medicine North Orthopaedic Surgery
DESCRIPTION:Hosted by Sports Medicine North Orthopaedic Surgery Meet and mingle with fellow chamber members in the beautiful new offices\nof Sports Medicine North in Newburyport.It is located in the brand new building behind Anna Jaques Hospital emergency room.\nNewburyport Medical Building\nSuite 3001Enter from High Street OR Low StreetCocktails * Enjoy hors d'oeuvres catered by Carry Out Cafe *  Raffle prizes\nFree Admission
X-ALT-DESC;FMTTYPE=text/html:<P style="MARGIN: 0in 0in 0pt" class=MsoNormal><STRONG><SPAN style="FONT-FAMILY: Calibri\; COLOR: #2291ff\; FONT-SIZE: 14pt\; mso-bidi-font-family: Arial">Hosted by Sports Medicine North Orthopaedic Surgery</SPAN></STRONG><SPAN style="FONT-FAMILY: Calibri\; FONT-SIZE: 14pt\; mso-bidi-font-family: Arial"> <?xml:namespace prefix = o ns = "urn:schemas-microsoft-com:office:office" /><o:p></o:p></SPAN></P><P><SPAN style="FONT-FAMILY: Calibri\; FONT-SIZE: 13pt\; mso-bidi-font-family: Arial">Meet and mingle with fellow chamber members in the beautiful new offices<BR>of Sports Medicine North in </SPAN><?xml:namespace prefix = st1 ns = "urn:schemas-microsoft-com:office:smarttags" /><st1:City><st1:place><SPAN style="FONT-FAMILY: Calibri\; FONT-SIZE: 13pt\; mso-bidi-font-family: Arial">Newburyport</SPAN></st1:place></st1:City><SPAN style="FONT-FAMILY: Calibri\; FONT-SIZE: 13pt\; mso-bidi-font-family: Arial">.</SPAN></P><P><SPAN style="FONT-FAMILY: Calibri\; FONT-SIZE: 13pt\; mso-bidi-font-family: Arial">It is located&nbsp\;in the brand new&nbsp\;building behind </SPAN><st1:place><st1:PlaceName><SPAN style="FONT-FAMILY: Calibri\; FONT-SIZE: 13pt\; mso-bidi-font-family: Arial">Anna</SPAN></st1:PlaceName><SPAN style="FONT-FAMILY: Calibri\; FONT-SIZE: 13pt\; mso-bidi-font-family: Arial"> </SPAN><st1:PlaceName><SPAN style="FONT-FAMILY: Calibri\; FONT-SIZE: 13pt\; mso-bidi-font-family: Arial">Jaques</SPAN></st1:PlaceName><SPAN style="FONT-FAMILY: Calibri\; FONT-SIZE: 13pt\; mso-bidi-font-family: Arial"> </SPAN><st1:PlaceType><SPAN style="FONT-FAMILY: Calibri\; FONT-SIZE: 13pt\; mso-bidi-font-family: Arial">Hospital emergency room.<BR><STRONG>Newburyp</STRONG></SPAN></st1:PlaceType></st1:place><st1:place><st1:PlaceType><SPAN style="FONT-FAMILY: Calibri\; FONT-SIZE: 13pt\; mso-bidi-font-family: Arial"><STRONG>ort Medical Building<BR>Suite 3001</STRONG></SPAN></st1:PlaceType></st1:place></P><P><st1:place><st1:PlaceType><SPAN style="FONT-FAMILY: Calibri\; FONT-SIZE: 13pt\; mso-bidi-font-family: Arial">Enter from High Street&nbsp\;OR Low Street</SPAN></st1:PlaceType></st1:place></P><P><SPAN style="FONT-FAMILY: Calibri\; FONT-SIZE: 13pt\; mso-bidi-font-family: Arial">Cocktails * Enjoy hors d'oeuvres catered by Carry Out Cafe&nbsp\;* &nbsp\;Raffle prizes<BR>Free Admission<o:p></o:p></SPAN></P><P><A href="http://www.josephswinterstcafe.com"></A>&nbsp\;</P>
LOCATION:Sports Medicine North
UID:e.1189.1505
SEQUENCE:3
DTSTAMP:20260421T071732Z
URL:https://business.newburyportchamber.org/events/details/members-mixer-sports-medicine-north-orthopaedic-surgery-04-15-2010-1505
END:VEVENT

END:VCALENDAR
