BEGIN:VCALENDAR
VERSION:2.0
PRODID:-//ChamberMaster//Event Calendar 2.0//EN
METHOD:PUBLISH
X-PUBLISHED-TTL:P3D
REFRESH-INTERVAL:P3D
CALSCALE:GREGORIAN
BEGIN:VEVENT
DTSTART:20090729T040000Z
DTEND:20090729T040000Z
X-MICROSOFT-CDO-ALLDAYEVENT:FALSE
SUMMARY:Members' Mixer - Ring's Island Marina
DESCRIPTION:Hosted by Ring's Island Marina Enjoy an evening of networking on the Merrimack River at Ring's Island Marina\, just over the RT1 (Gillis) Bridge in Salisbury. Enjoy one of the best views of Newburyport on a summer night. Raffles * Cocktails\nHors d'oeuvres provided by Bucciarelli's Butcher Shop  Admission: Members $5\nNon Members: $10 Directions: Just over the Rt1 bridge take a right onto Friedenfels St. immediately after Striper's GrilleStay right at the fork (1st Street)Marina is just ahead on the right
X-ALT-DESC;FMTTYPE=text/html:<DIV style="FONT-FAMILY: Arial"><FONT color=#0000ff size=4><STRONG>Hosted by Ring's Island Marina</STRONG></FONT></DIV><DIV style="FONT-FAMILY: Arial">&nbsp\;</DIV><DIV style="FONT-FAMILY: Arial"><FONT size=4>Enjoy an evening of networking&nbsp\;on the Merrimack River at Ring's Island Marina\, just over the RT1 (Gillis) Bridge in Salisbury. Enjoy one of the best&nbsp\;views of Newburyport on a summer night.</FONT></DIV><DIV style="FONT-FAMILY: Arial"><FONT size=4></FONT>&nbsp\;</DIV><DIV style="FONT-FAMILY: Arial"><FONT size=4>Raffles * Cocktails<BR>Hors d'oeuvres provided by Bucciarelli's Butcher Shop </FONT></DIV><DIV style="FONT-FAMILY: Arial"><FONT size=4></FONT>&nbsp\;</DIV><DIV style="FONT-FAMILY: Arial"><FONT size=4>Admission: Members $5<BR>Non Members: $10</FONT></DIV><DIV style="FONT-FAMILY: Arial">&nbsp\;</DIV><DIV style="FONT-FAMILY: Arial"><FONT face=Arial size=2><STRONG>Directions:</STRONG> Just over the Rt1 bridge take a right onto Friedenfels St. immediately after Striper's Grille</FONT></DIV><DIV style="FONT-FAMILY: Arial"><FONT face=Arial size=2>Stay right at the fork (1st Street)</FONT></DIV><DIV style="FONT-FAMILY: Arial"><FONT face=Arial size=2>Marina is just ahead on the right</FONT></DIV><DIV style="FONT-FAMILY: Arial">&nbsp\;</DIV>
LOCATION:Groveland Fairways LLC
UID:e.1189.1217
SEQUENCE:3
DTSTAMP:20260421T214547Z
URL:https://business.newburyportchamber.org/events/details/members-mixer-ring-s-island-marina-07-29-2009-1217
END:VEVENT

END:VCALENDAR
