BEGIN:VCALENDAR
VERSION:2.0
PRODID:-//ChamberMaster//Event Calendar 2.0//EN
METHOD:PUBLISH
X-PUBLISHED-TTL:P3D
REFRESH-INTERVAL:P3D
CALSCALE:GREGORIAN
BEGIN:VEVENT
DTSTART:20090511T040000Z
DTEND:20090511T040000Z
X-MICROSOFT-CDO-ALLDAYEVENT:FALSE
SUMMARY:Members' Mixer - Port Tavern
DESCRIPTION:Check out Newburyport's newest restaurant\, The Port Tavern!Irish-American cuisine\, live music and great food in a bustling pub atmosphere! Cocktails  *  Hors d'oeuvres  *  Raffles $5 Admisison Members$10 Admission Non Members
X-ALT-DESC;FMTTYPE=text/html:<DIV style="FONT-FAMILY: Arial">Check out Newburyport's newest restaurant\, The Port Tavern!</DIV><DIV style="FONT-FAMILY: Arial">Irish-American cuisine\, live music and great food in a bustling pub atmosphere!</DIV><DIV style="FONT-FAMILY: Arial"><FONT size=4></FONT>&nbsp\;</DIV><DIV style="FONT-FAMILY: Arial">Cocktails&nbsp\; *&nbsp\; Hors d'oeuvres &nbsp\;*&nbsp\; Raffles</DIV><DIV style="FONT-FAMILY: Arial">&nbsp\;</DIV><DIV style="FONT-FAMILY: Arial">$5 Admisison&nbsp\;Members</DIV><DIV style="FONT-FAMILY: Arial">$10 Admission Non Members</DIV><DIV style="FONT-FAMILY: Arial">&nbsp\;</DIV>
LOCATION:Port Tavern
UID:e.1189.1203
SEQUENCE:3
DTSTAMP:20260422T010016Z
URL:https://business.newburyportchamber.org/events/details/members-mixer-port-tavern-05-11-2009-1203
END:VEVENT

END:VCALENDAR
