BEGIN:VCALENDAR
VERSION:2.0
PRODID:-//ChamberMaster//Event Calendar 2.0//EN
METHOD:PUBLISH
X-PUBLISHED-TTL:P3D
REFRESH-INTERVAL:P3D
CALSCALE:GREGORIAN
BEGIN:VEVENT
DTSTART:20101122T050000Z
DTEND:20101122T050000Z
X-MICROSOFT-CDO-ALLDAYEVENT:FALSE
SUMMARY:Members Mixer - Plum Island Grille
DESCRIPTION:Plum Island Grille  Get ready for the holiday season and join us at this festivemixer!  Come see the renovations and transformation of thesunset deck that is now open year-round. Perfect for year-rounddining and special events. Warm yourself by the fireplace\nas you mingle with fellow chamber members at this cozy island retreat. Delicious hors d’oeuvres  *  Raffles  *  Cash BarFree Admission5:30 – 7:30pm
X-ALT-DESC;FMTTYPE=text/html:<P></P><SPAN style="FONT-FAMILY: Calibri"><P style="MARGIN: 0in 0in 0pt" class=MsoNormal><STRONG><SPAN style="FONT-FAMILY: Calibri\; FONT-SIZE: 14pt"><FONT color=#0080c0>Plum Island Grille <?xml:namespace prefix = o ns = "urn:schemas-microsoft-com:office:office" /><o:p></o:p></FONT></SPAN></STRONG></P><P style="MARGIN: 0in 0in 0pt" class=MsoNormal><SPAN style="FONT-FAMILY: Calibri\; FONT-SIZE: 14pt"><o:p>&nbsp\;</o:p></SPAN></P><P style="MARGIN: 0in 0in 0pt" class=MsoNormal><SPAN style="FONT-FAMILY: Calibri\; FONT-SIZE: 14pt">Get ready for the holiday season and join us at this festive</SPAN></P><P style="MARGIN: 0in 0in 0pt" class=MsoNormal><SPAN style="FONT-FAMILY: Calibri\; FONT-SIZE: 14pt">mixer!<SPAN style="mso-spacerun: yes">&nbsp\; </SPAN>Come see the renovations and transformation of the</SPAN></P><P style="MARGIN: 0in 0in 0pt" class=MsoNormal><SPAN style="FONT-FAMILY: Calibri\; FONT-SIZE: 14pt">sunset deck that&nbsp\;is now&nbsp\;open year-round. Perfect for year-round</SPAN></P><P style="MARGIN: 0in 0in 0pt" class=MsoNormal><SPAN style="FONT-FAMILY: Calibri\; FONT-SIZE: 14pt">dining and special events.</SPAN><SPAN style="FONT-FAMILY: Calibri\; FONT-SIZE: 14pt"> Warm yourself by the fireplace<BR>as you mingle with </SPAN><SPAN style="FONT-FAMILY: Calibri\; FONT-SIZE: 14pt">fellow chamber members at this cozy island retreat.<o:p></o:p></SPAN></P><P style="MARGIN: 0in 0in 0pt" class=MsoNormal><SPAN style="FONT-FAMILY: Calibri\; FONT-SIZE: 14pt"><o:p>&nbsp\;</o:p></SPAN></P><P style="MARGIN: 0in 0in 0pt" class=MsoNormal><SPAN style="FONT-FAMILY: Calibri\; FONT-SIZE: 14pt">Delicious hors d’oeuvres<SPAN style="mso-spacerun: yes">&nbsp\; </SPAN>*<SPAN style="mso-spacerun: yes">&nbsp\; </SPAN>Raffles<SPAN style="mso-spacerun: yes">&nbsp\; </SPAN>*<SPAN style="mso-spacerun: yes">&nbsp\; </SPAN>Cash Bar</SPAN></P><P style="MARGIN: 0in 0in 0pt" class=MsoNormal><SPAN style="FONT-FAMILY: Calibri\; FONT-SIZE: 14pt">Free Admission</SPAN></P><P style="MARGIN: 0in 0in 0pt" class=MsoNormal><?xml:namespace prefix = st1 ns = "urn:schemas-microsoft-com:office:smarttags" /><st1:time Hour="17" Minute="30"><SPAN style="FONT-FAMILY: Calibri\; FONT-SIZE: 14pt">5:30 – 7:30pm</SPAN></st1:time><SPAN style="FONT-FAMILY: Calibri\; FONT-SIZE: 14pt"><o:p></o:p></SPAN></P><P></SPAN></P>
LOCATION:Plum Island Grille
UID:e.1189.1511
SEQUENCE:3
DTSTAMP:20260420T144221Z
URL:https://business.newburyportchamber.org/events/details/members-mixer-plum-island-grille-11-22-2010-1511
END:VEVENT

END:VCALENDAR
