BEGIN:VCALENDAR
VERSION:2.0
PRODID:-//ChamberMaster//Event Calendar 2.0//EN
METHOD:PUBLISH
X-PUBLISHED-TTL:P3D
REFRESH-INTERVAL:P3D
CALSCALE:GREGORIAN
BEGIN:VEVENT
DTSTART:20090527T040000Z
DTEND:20090527T040000Z
X-MICROSOFT-CDO-ALLDAYEVENT:FALSE
SUMMARY:Members' Mixer - Ould Newbury Golf Club
DESCRIPTION:Enjoy an evening of spring networking with friends and business associates at Ould Newbury Golf Club. Take part in a putting contest! Cocktails  *  Hors d'oeuvres  *  Raffles Admission: $5 Members                   $10 Non Members & Guests Approx. 4 miles from Newburyport Traffic Circle - on the left.
X-ALT-DESC;FMTTYPE=text/html:<DIV style="FONT-FAMILY: Arial"><FONT size=4>Enjoy an evening of spring networking with friends and business associates at Ould Newbury Golf Club. Take part in a putting contest!</FONT></DIV><DIV style="FONT-FAMILY: Arial"><FONT size=4></FONT>&nbsp\;</DIV><DIV style="FONT-FAMILY: Arial">Cocktails&nbsp\; *&nbsp\; Hors d'oeuvres &nbsp\;*&nbsp\; Raffles</DIV><DIV style="FONT-FAMILY: Arial">&nbsp\;</DIV><DIV style="FONT-FAMILY: Arial">Admission: $5 Members</DIV><DIV style="FONT-FAMILY: Arial">&nbsp\;&nbsp\;&nbsp\;&nbsp\;&nbsp\;&nbsp\;&nbsp\;&nbsp\;&nbsp\;&nbsp\;&nbsp\;&nbsp\;&nbsp\;&nbsp\;&nbsp\;&nbsp\;&nbsp\;&nbsp\; $10 Non Members &amp\; Guests</DIV><DIV style="FONT-FAMILY: Arial">&nbsp\;</DIV><DIV style="FONT-FAMILY: Arial">Approx. 4 miles from Newburyport Traffic Circle - on the left.</DIV>
LOCATION:Ould Newbury Golf Club
UID:e.1189.1168
SEQUENCE:3
DTSTAMP:20260422T010338Z
URL:https://business.newburyportchamber.org/events/details/members-mixer-ould-newbury-golf-club-05-27-2009-1168
END:VEVENT

END:VCALENDAR
