BEGIN:VCALENDAR
VERSION:2.0
PRODID:-//ChamberMaster//Event Calendar 2.0//EN
METHOD:PUBLISH
X-PUBLISHED-TTL:P3D
REFRESH-INTERVAL:P3D
CALSCALE:GREGORIAN
BEGIN:VEVENT
DTSTART:20101014T040000Z
DTEND:20101014T040000Z
X-MICROSOFT-CDO-ALLDAYEVENT:FALSE
SUMMARY:Members Mixer - Opportunity Works
DESCRIPTION:Hosted by Opportunity Works – celebrating 36 years!Meet and mingle with fellow chamber members in the offices\nand facilities of Opportunity Works located in the industrial park.Enjoy cocktails\, music and a food sampling extravaganza provided by the following restaurants:Abraham’s Bagels\, Agave Mexican Bistro\, Alden Merrill\,  Amesbury Sports Park\, The Black Duck Market & Deli\, Carry Out Café\,  Cider Hill Farm\, Courtyard Roast Beef\, Dominoes Pizza\, The Flatbread Company\, Hanna Japan\, Souffles.Great raffle prizes including original artwork by the clients\, pair of tickets to the Wang Center for a classical Chinese performance of dance and music!Admission:$10 Members\n$20 Non Members and guestsBring your business cards and promotional materials for the disply table.Directions: Graf Road to Mulliken Way. Turn right on Malcolm Hoyt and right again onto Opportunity Way. Follow to end.
X-ALT-DESC;FMTTYPE=text/html:<P><P><FONT face=Arial><FONT size=4></FONT></FONT></P><FONT face=Arial><FONT color=#0000ff size=4 face=Arial><SPAN style="FONT-FAMILY: Calibri\; COLOR: blue\; FONT-SIZE: 14pt\; mso-bidi-font-family: Arial"><P style="MARGIN: 0in 0in 0pt" class=MsoNormal><STRONG><SPAN style="FONT-FAMILY: Calibri\; COLOR: blue\; FONT-SIZE: 14pt\; mso-bidi-font-family: Arial">Hosted by </SPAN><?xml:namespace prefix = st1 ns = "urn:schemas-microsoft-com:office:smarttags" /><st1:place><SPAN style="FONT-FAMILY: Calibri\; COLOR: blue\; FONT-SIZE: 14pt\; mso-bidi-font-family: Arial">Opportunity</SPAN></st1:place></STRONG><SPAN><STRONG> Works</STRONG><FONT color=#000000> </FONT><STRONG><SPAN style="COLOR: #dab52c">– celebrating 36 years!</SPAN><?xml:namespace prefix = o ns = "urn:schemas-microsoft-com:office:office" /><o:p></o:p></STRONG></SPAN></P><P><SPAN style="FONT-FAMILY: Calibri\; FONT-SIZE: 14pt\; mso-bidi-font-family: Arial"><FONT color=#000000>Meet and mingle with fellow chamber members in the offices<BR></FONT></SPAN><SPAN style="FONT-FAMILY: Calibri\; FONT-SIZE: 14pt\; mso-bidi-font-family: Arial"><FONT color=#000000>and facilities&nbsp\;of Opportunity Works located in&nbsp\;the industrial park.<o:p></o:p></FONT></SPAN></P><P><STRONG><FONT color=#000000><I><SPAN style="FONT-FAMILY: Calibri\; FONT-SIZE: 14pt\; mso-bidi-font-family: Arial"></SPAN></I><SPAN style="FONT-FAMILY: Calibri\; FONT-SIZE: 14pt\; mso-bidi-font-family: Arial"><o:p>Enjoy cocktails\, music and a food sampling extravaganza provided by the following restaurants:</o:p></SPAN></FONT></STRONG></P><P><STRONG><FONT color=#000000><SPAN style="FONT-FAMILY: Calibri\; FONT-SIZE: 14pt\; mso-bidi-font-family: Arial"><o:p></o:p></SPAN></FONT></STRONG><FONT color=#000000><SPAN style="FONT-FAMILY: Calibri\; FONT-SIZE: 14pt\; mso-bidi-font-family: Arial"><o:p><SPAN style="FONT-FAMILY: Calibri"><FONT size=3><SPAN style="FONT-FAMILY: Calibri\; FONT-SIZE: 13pt">Abraham’s Bagels\, Agave Mexican Bistro\, Alden Merrill\, &nbsp\;Amesbury Sports Park\, The Black Duck Market &amp\; Deli\, Carry Out Café\, &nbsp\;Cider Hill Farm\, Courtyard Roast Beef\, Dominoes Pizza\, The Flatbread Company\, Hanna Japan\, Souffles.</SPAN><SPAN style="FONT-SIZE: 13pt"><o:p></o:p></SPAN></P></FONT></SPAN><o:p></o:p></o:p></SPAN></FONT><P><SPAN style="FONT-FAMILY: Calibri\; FONT-SIZE: 14pt\; mso-bidi-font-family: Arial"><FONT color=#000000>Great raffle prizes including original artwork by the clients\,&nbsp\;pair of tickets to the Wang Center&nbsp\;for a classical Chinese performance of dance and music!</FONT></SPAN></P><P><SPAN style="FONT-FAMILY: Calibri\; FONT-SIZE: 14pt\; mso-bidi-font-family: Arial"><FONT color=#000000>Admission:<o:p></o:p></FONT></SPAN></P><P><SPAN style="FONT-FAMILY: Calibri\; FONT-SIZE: 14pt\; mso-bidi-font-family: Arial"><FONT color=#000000>$10 Members<BR>$20 Non Members and guests</FONT></SPAN></P><P><SPAN style="FONT-FAMILY: Calibri\; FONT-SIZE: 14pt\; mso-bidi-font-family: Arial"><FONT color=#000000>Bring your business cards and&nbsp\;promotional materials&nbsp\;for the disply table.</FONT></SPAN></P><P><SPAN style="FONT-FAMILY: Calibri\; FONT-SIZE: 14pt\; mso-bidi-font-family: Arial"><FONT color=#000000><STRONG><FONT color=#0000ff>Directions:</FONT></STRONG> Graf Road to Mulliken Way. Turn right on Malcolm Hoyt and right again onto Opportunity Way. Follow to end.</FONT></SPAN></P><P style="MARGIN: 0in 0in 0pt" class=MsoNormal></SPAN></P></FONT><P><FONT face=Arial><FONT color=#000000></FONT></FONT>&nbsp\;</P></FONT><A href="http://www.josephswinterstcafe.com"></A>
LOCATION:Opportunity Works
UID:e.1189.1510
SEQUENCE:3
DTSTAMP:20260420T160451Z
URL:https://business.newburyportchamber.org/events/details/members-mixer-opportunity-works-10-14-2010-1510
END:VEVENT

END:VCALENDAR
