BEGIN:VCALENDAR
VERSION:2.0
PRODID:-//ChamberMaster//Event Calendar 2.0//EN
METHOD:PUBLISH
X-PUBLISHED-TTL:P3D
REFRESH-INTERVAL:P3D
CALSCALE:GREGORIAN
BEGIN:VEVENT
DTSTART:20120118T223000Z
DTEND:20120119T003000Z
X-MICROSOFT-CDO-ALLDAYEVENT:FALSE
SUMMARY:Members' Mixer - Opportunity Works
DESCRIPTION:Members Mixer - Hosted by Opportunity Works\n\n\n\nKick off the New Year with the first networking event of 2012!  Resolve to make the most of your chamber membership\, meet new friends and make great business contacts!\n\n\n\nOpportunity Works operates a modern 24\,000 square-foot specially-designed production work site\, at its headquarters building in the Lord Timothy Dexter Industrial Park in Newburyport.  The organization offers a variety of services some of which include packaging\, assembly\, sorting\, mailing services\, collating\, inserting\, labeling and more!\n\n\n\nTake a tour and see demonstrations of the various services they offer!\n\n\n\nJoin us at Opportuntiy Works!\n\nHors d'oeuvres * Cocktails  *  Raffles \n\n\n\n$10 Admission\n\nPayable at the door
X-ALT-DESC;FMTTYPE=text/html:<span style="color: #000080"><strong>Members Mixer&nbsp\;- Hosted by Opportunity Works</strong></span><br />\n<br />\nKick off&nbsp\;the New Year&nbsp\;with the first networking event of 2012!&nbsp\; Resolve to make the most of your chamber membership\, meet new friends and make great business contacts!<br />\n<br />\n<font face="Arial"><a href="http://www.opportunityworks.org">Opportunity Works</a> operates a modern 24\,000 square-foot specially-designed production work site\, at its headquarters building in the Lord Timothy Dexter Industrial Park in Newburyport.&nbsp\;&nbsp\;The organization offers a </font>variety of services some of which include packaging\, assembly\, sorting\, mailing services\, collating\, inserting\, labeling and more!<br />\n<br />\nTake a tour and see demonstrations of the various services they offer!<br />\n<br />\nJoin us at Opportuntiy Works!<br />\nHors d&#39\;oeuvres * Cocktails&nbsp\; *&nbsp\;&nbsp\;Raffles&nbsp\;<br />\n<br />\n$10 Admission<br />\n<strong><em>Payable at the door</em></strong>
LOCATION:Opportunity Works 10 Opportunity Way Newburyport\, MA Located in the Industrial Park
UID:e.1189.2402
SEQUENCE:3
DTSTAMP:20260419T154910Z
URL:https://business.newburyportchamber.org/events/details/members-mixer-opportunity-works-01-18-2012-2402
END:VEVENT

END:VCALENDAR
