BEGIN:VCALENDAR
VERSION:2.0
PRODID:-//ChamberMaster//Event Calendar 2.0//EN
METHOD:PUBLISH
X-PUBLISHED-TTL:P3D
REFRESH-INTERVAL:P3D
CALSCALE:GREGORIAN
BEGIN:VEVENT
DTSTART:20100611T040000Z
DTEND:20100611T040000Z
X-MICROSOFT-CDO-ALLDAYEVENT:FALSE
SUMMARY:Members Mixer: 'On the Waterfront' - A Tented Affair
DESCRIPTION:* You're Invited *Hosted by Newburyport Marinas and Newburyport Development\nFriday\, June 11th\, 3pm - 6pmMarinas are gateways to our nation's waters - providing access to boating and fishing for all to enjoy. Saturday\, June 12th is National Marina Day when the nation will celebrate the marina industry. And what better place is there than Newburyport to celebrate this ocassion?Join us for the kick off on Friday afternoon\, June 11 under the big tent for some mingling while enjoying cocktails and hors d'oeuvres alongside the Merrimack River. Special remarks by Mayor Donna Holaday\, Paul Hogg\, Newburyport Harbormaster and BMC Jason Holm\, US Coast Guard Merrimack River Station.Location: Located at Harbor Marina\, Rear 51 Water St. behind Starboard Galley.Hors d'oeuvres * Cocktails * Great Raffles!\nAdmission: $10 Members\; $20 Non Members
X-ALT-DESC;FMTTYPE=text/html:<P><P><FONT face=Arial><FONT size=4></FONT></FONT></P><P><FONT face=Arial><FONT color=#0000ff size=4 face=Arial><STRONG>* You're Invited *</STRONG></FONT></FONT></P><P><FONT face=Arial><FONT color=#0000ff face=Arial><STRONG><FONT size=4>Hosted by </FONT><A style="COLOR: blue\; TEXT-DECORATION: underline" title="" dataFld=0:0 href="http://www.newburyportmarinas.com" target=_NewWindow><FONT size=4>Newburyport Marinas</FONT></A><FONT size=4> and </FONT><A style="COLOR: blue\; TEXT-DECORATION: underline" title="" dataFld=0:0 href="http://www.newburyportdevelopment.com" target=_NewWindow><FONT size=4>Newburyport Development</FONT></A><BR><FONT color=#ff0000 size=4>Friday\, June 11th\, 3pm - 6pm</FONT></STRONG></FONT></P><P><FONT size=4></FONT></P><P><FONT face=Arial><FONT color=#000000><FONT size=4>Marinas are gateways to our nation's waters - providing access to boating and fishing for all to enjoy.&nbsp\;Saturday\, June 12th is </FONT><A dataFld=0:0 href="http://www.nationalmarinaday.org"><FONT size=4>National Marina Day</FONT></A><FONT size=4> when the nation will celebrate the marina industry. And what better place is there than Newburyport to celebrate this ocassion?</FONT></FONT></FONT></P><P><FONT size=4>Join us for the kick off&nbsp\;on Friday afternoon\, June 11 under the big&nbsp\;tent for some mingling while enjoying&nbsp\;cocktails and hors d'oeuvres alongside the Merrimack River.&nbsp\;</FONT></P><P><FONT size=4>Special remarks by Mayor Donna Holaday\, Paul Hogg\, Newburyport Harbormaster and BMC Jason Holm\, US Coast Guard Merrimack River Station.</FONT></P><P><FONT size=4><STRONG>Location:</STRONG> <SPAN style="FONT-FAMILY: Calibri\; COLOR: blue\; FONT-SIZE: 12pt\; mso-fareast-font-family: 'Times New Roman'\; mso-bidi-font-family: Arial\; mso-ansi-language: EN-US\; mso-fareast-language: EN-US\; mso-bidi-language: AR-SA"><SPAN style="FONT-FAMILY: Arial\; COLOR: blue\; FONT-SIZE: 12pt\; mso-fareast-font-family: 'Times New Roman'\; mso-ansi-language: EN-US\; mso-fareast-language: EN-US\; mso-bidi-language: AR-SA">Located at Harbor Marina\, Rear </SPAN><?xml:namespace prefix = st1 ns = "urn:schemas-microsoft-com:office:smarttags" /><st1:Street><st1:address><SPAN style="FONT-FAMILY: Arial\; COLOR: blue\; FONT-SIZE: 12pt\; mso-fareast-font-family: 'Times New Roman'\; mso-ansi-language: EN-US\; mso-fareast-language: EN-US\; mso-bidi-language: AR-SA">51 Water St.</SPAN></st1:address></st1:Street><SPAN style="FONT-FAMILY: Arial\; COLOR: blue\; FONT-SIZE: 12pt\; mso-fareast-font-family: 'Times New Roman'\; mso-ansi-language: EN-US\; mso-fareast-language: EN-US\; mso-bidi-language: AR-SA"> behind Starboard Galley.</SPAN></SPAN></FONT></P><P><FONT size=4>Hors d'oeuvres *&nbsp\;Cocktails * Great Raffles!<BR>Admission: $10 Members\; $20 Non Members</FONT></P></FONT><A href="http://www.josephswinterstcafe.com"></A>
LOCATION:Newburyport Waterfront - Under the Tent
UID:e.1189.1507
SEQUENCE:3
DTSTAMP:20260421T032438Z
URL:https://business.newburyportchamber.org/events/details/members-mixer-on-the-waterfront-a-tented-affair-06-11-2010-1507
END:VEVENT

END:VCALENDAR
