BEGIN:VCALENDAR
VERSION:2.0
PRODID:-//ChamberMaster//Event Calendar 2.0//EN
METHOD:PUBLISH
X-PUBLISHED-TTL:P3D
REFRESH-INTERVAL:P3D
CALSCALE:GREGORIAN
BEGIN:VEVENT
DTSTART:20110914T213000Z
DTEND:20110914T233000Z
X-MICROSOFT-CDO-ALLDAYEVENT:FALSE
SUMMARY:Members Mixer - Nunan's Florist & Greenhouses
DESCRIPTION:Patriots Tickets\, DJ\, Tiki Bar\, Scavenger Hunt and More!!\n\n\n\nEnjoy business networking at this Jimmy Buffett themed mixer at the beautiful Nunan's Florist & Greenhouses. Mingle outside under the tiki bar among the gardens on a late summer evening. Enjoy a special refreshing Nunan Punch. Participate in a fun Scavenger Hunt and you'll be entered into a special raffle to win a pair of New England Patriots Tickets and a Nunan's Gift Certificate!\n\n\n\nCocktails  *  Hors d'oeuvres  *  DJ  *  Special Nunan's Nasturtium Punch   *  Great Raffles  *  Scavenger Hunt  *  Ice Cream \n\n  \n\nJoint Mixer with the Amesbury Chamber of Commerce\n\n\n\nAn event NOT to be missed!\n\n \n\nFree Admission\n\n\n\nhttp://www.nunans.com\n\n\n\n https://www.facebook.com/#!/NunanFlorist\n\n\n\nPlease register online above.
X-ALT-DESC;FMTTYPE=text/html:<br />\n<span style="font-size: 14px"><strong><span style="color: #ff0000">Patriots Tickets\, DJ\, Tiki Bar\, Scavenger Hunt&nbsp\;and More!!</span></strong></span><br />\n<br />\nEnjoy business networking at this Jimmy Buffett themed mixer at the beautiful Nunan&#39\;s Florist &amp\; Greenhouses. Mingle outside under the tiki bar among the gardens on a late summer evening. Enjoy a special refreshing Nunan Punch. Participate in a fun Scavenger Hunt and you&#39\;ll&nbsp\;be entered into&nbsp\;a special raffle&nbsp\;to win a pair of&nbsp\;<em><strong>New England Patriots Tickets </strong></em>and a <em><strong>Nunan&#39\;s Gift Certificate!</strong></em><br />\n<br />\nCocktails&nbsp\; *&nbsp\; Hors d&#39\;oeuvres&nbsp\; *&nbsp\; DJ&nbsp\; *&nbsp\; Special Nunan&#39\;s Nasturtium Punch&nbsp\;&nbsp\; *&nbsp\; Great Raffles&nbsp\; *&nbsp\; Scavenger Hunt&nbsp\; *&nbsp\; Ice Cream&nbsp\;<br />\n<span _fck_bookmark="1" style="display: none">&nbsp\;</span><strong>&nbsp\;<br />\nJoint Mixer with the Amesbury Chamber of Commerce</strong><br />\n<br />\nAn event NOT to be missed!<br />\n<span _fck_bookmark="1" style="display: none">&nbsp\;</span><br />\nFree Admission<br />\n<br />\n<a href="http://www.nunans.com">http://www.nunans.com</a><br />\n<br />\n<span _fck_bookmark="1" style="display: none">&nbsp\;</span><a href="https://www.facebook.com/#!/NunanFlorist">https://www.facebook.com/#!/NunanFlorist</a><br />\n<br />\nPlease register online above.
LOCATION:Nunan Florist and Greenhouses 269 Central Street (Rt 97) Georgetown\, MA Just 13 miles or 15 minutes out of downtown Newburyport! Exit 53/ Rte 97 West off Rt 95. Follow for approx. 10 miles\, Nunan's wil be on the left.
UID:e.1189.1982
SEQUENCE:3
DTSTAMP:20260419T211919Z
URL:https://business.newburyportchamber.org/events/details/members-mixer-nunan-s-florist-greenhouses-09-14-2011-1982
END:VEVENT

END:VCALENDAR
