BEGIN:VCALENDAR
VERSION:2.0
PRODID:-//ChamberMaster//Event Calendar 2.0//EN
METHOD:PUBLISH
X-PUBLISHED-TTL:P3D
REFRESH-INTERVAL:P3D
CALSCALE:GREGORIAN
BEGIN:VEVENT
DTSTART:20100901T040000Z
DTEND:20100901T040000Z
X-MICROSOFT-CDO-ALLDAYEVENT:FALSE
SUMMARY:Members Mixer - Nichols Village
DESCRIPTION:Hosted by Nichols Village\nwith Steve Bentley of Steve Bentley Design\n Network with fellow chamber members at Nichols Village\, a beautiful independent senior living community nestled among 84 acres of majestic countryside.  Mingle among the stunning photography on view from Steve's travels around the world. \n\nClick to take a virtual tour of Nichols Village:http://www.nichols-village.com/tour-nichols-village.html Click here to see some of Steve's photos.Cocktails * Hors d'oeuvres * Raffle prizesDirections: Less than 10 miles out of Newburyport\, right off Rte 113!·                    Travel on Route 113 through West Newbury ·                    Pass Pentucket Regional Middle & High Schools\, the entrance to Nichols Village will be just up on the left. ·                    Take a left onto Nichols Way\, and follow all the way up the hill to find visitor parking.   Free Admission
X-ALT-DESC;FMTTYPE=text/html:<P><P><FONT face=Arial><FONT size=4></FONT></FONT></P><FONT face=Arial><FONT color=#57b121 face=Arial><STRONG><SPAN><P style="MARGIN: 0in 0in 0pt" class=MsoNormal><SPAN style="FONT-FAMILY: Calibri\; mso-bidi-font-family: Arial"></SPAN></P><P style="MARGIN: 0in 0in 0pt" class=MsoNormal><SPAN style="FONT-FAMILY: Calibri\; FONT-SIZE: 14pt\; mso-bidi-font-family: Arial"></SPAN></P><SPAN><SPAN><P style="MARGIN: 0in 0in 0pt" class=MsoNormal><SPAN style="FONT-FAMILY: Calibri\; mso-bidi-font-family: Arial"></SPAN></P><P style="MARGIN: 0in 0in 0pt" class=MsoNormal><FONT size=3><SPAN style="FONT-FAMILY: Calibri\; COLOR: green\; FONT-SIZE: 13pt\; mso-bidi-font-family: Arial">Hosted by Nichols Village<BR>with Steve Bentley of Steve Bentley Design<BR></SPAN><SPAN style="FONT-FAMILY: Calibri\; FONT-SIZE: 13pt\; mso-bidi-font-family: Arial"><?xml:namespace prefix = o ns = "urn:schemas-microsoft-com:office:office" /><o:p><FONT color=#000000>&nbsp\;</FONT></o:p></SPAN></FONT></P><P style="MARGIN: 0in 0in 0pt" class=MsoNormal><FONT color=#000000><SPAN style="FONT-FAMILY: Calibri\; FONT-SIZE: 13pt\; mso-bidi-font-family: Arial"><FONT size=3>Network with&nbsp\;fellow chamber members at Nichols Village\, a beautiful independent senior </FONT></SPAN><SPAN style="FONT-FAMILY: Calibri\; FONT-SIZE: 13pt"><FONT size=3>living community nestled among 84 acres of majestic countryside.&nbsp\;&nbsp\;Mingle among the&nbsp\;stunning photography&nbsp\;on view from&nbsp\;Steve's travels around the world.&nbsp\;<BR><BR></FONT></SPAN></FONT><SPAN style="FONT-FAMILY: Calibri\; FONT-SIZE: 13pt\; mso-bidi-font-family: Arial"><FONT color=#000000></FONT></SPAN></P><P style="MARGIN: 0in 0in 0pt" class=MsoNormal><SPAN style="FONT-FAMILY: Calibri\; FONT-SIZE: 13pt\; mso-bidi-font-family: Arial"><FONT color=#000000 size=3>Click to take a virtual tour of Nichols Village:</FONT></SPAN></P><P style="MARGIN: 0in 0in 0pt" class=MsoNormal><SPAN style="FONT-FAMILY: Calibri\; FONT-SIZE: 13pt\; mso-bidi-font-family: Arial"><A href="http://www.nichols-village.com/tour-nichols-village.html"><FONT color=#800080 size=3>http://www.nichols-village.com/tour-nichols-village.html</FONT></A></SPAN></P><P style="MARGIN: 0in 0in 0pt" class=MsoNormal><SPAN style="FONT-FAMILY: Calibri\; FONT-SIZE: 13pt\; mso-bidi-font-family: Arial"><SPAN style="FONT-FAMILY: Calibri\; FONT-SIZE: 13pt\; mso-bidi-font-family: Arial"><FONT color=#000000></FONT></SPAN></SPAN>&nbsp\;</P><P style="MARGIN: 0in 0in 0pt" class=MsoNormal><SPAN style="FONT-FAMILY: Calibri\; FONT-SIZE: 13pt\; mso-bidi-font-family: Arial"><SPAN style="FONT-FAMILY: Calibri\; FONT-SIZE: 13pt\; mso-bidi-font-family: Arial"><FONT color=#000000 size=3>Click </FONT><A style="COLOR: blue\; TEXT-DECORATION: underline" title="" dataFld=0:0 href="http://www.cheezygreetings.com/foto.htm" target=_NewWindow><FONT color=#800040 size=3>here </FONT></A><FONT color=#000000 size=3>to see&nbsp\;some of Steve's photos.</FONT></SPAN></SPAN></P><P><SPAN style="FONT-FAMILY: Calibri\; FONT-SIZE: 13pt\; mso-bidi-font-family: Arial"><FONT color=#000000><FONT size=3>Cocktails * Hors d'oeuvres&nbsp\;* Raffle prizes<o:p></o:p></FONT></FONT></SPAN></P><P style="MARGIN: 0in 0in 0pt" class=MsoNormal><FONT color=#000000><FONT size=3><SPAN style="FONT-FAMILY: Calibri\; FONT-SIZE: 13pt\; mso-bidi-font-family: Arial">Directions: Less than 10 miles out of </SPAN><?xml:namespace prefix = st1 ns = "urn:schemas-microsoft-com:office:smarttags" /><st1:City><st1:place><SPAN style="FONT-FAMILY: Calibri\; FONT-SIZE: 13pt\; mso-bidi-font-family: Arial">Newburyport</SPAN></st1:place></st1:City><SPAN>\, right off Rte 113!<o:p></o:p></SPAN></FONT></FONT></P><P style="TEXT-INDENT: -0.5in\; MARGIN: 0in 0in 0pt 0.75in\; mso-list: l0 level1 lfo1\; tab-stops: list .75in" class=MsoNormal><FONT color=#000000><FONT size=3><SPAN style="FONT-FAMILY: Symbol\; FONT-SIZE: 13pt\; mso-bidi-font-family: Symbol\; mso-fareast-font-family: Symbol"><SPAN style="mso-list: Ignore">·<SPAN style="FONT: 7pt 'Times New Roman'">&nbsp\;&nbsp\;&nbsp\;&nbsp\;&nbsp\;&nbsp\;&nbsp\;&nbsp\;&nbsp\;&nbsp\;&nbsp\;&nbsp\;&nbsp\;&nbsp\;&nbsp\;&nbsp\;&nbsp\;&nbsp\;&nbsp\; </SPAN></SPAN></SPAN><SPAN style="FONT-FAMILY: Calibri\; FONT-SIZE: 13pt\; mso-bidi-font-family: Arial">Travel on Route 113 through </SPAN><st1:place><SPAN style="FONT-FAMILY: Calibri\; FONT-SIZE: 13pt\; mso-bidi-font-family: Arial">West Newbury</SPAN></st1:place><SPAN style="FONT-FAMILY: Calibri\; FONT-SIZE: 13pt\; mso-bidi-font-family: Arial"> <o:p></o:p></SPAN></FONT></FONT></P><P style="TEXT-INDENT: -0.5in\; MARGIN: 0in 0in 0pt 0.75in\; mso-list: l0 level1 lfo1\; tab-stops: list .75in" class=MsoNormal><FONT color=#000000><FONT size=3><SPAN style="FONT-FAMILY: Symbol\; FONT-SIZE: 13pt\; mso-bidi-font-family: Symbol\; mso-fareast-font-family: Symbol"><SPAN style="mso-list: Ignore">·<SPAN style="FONT: 7pt 'Times New Roman'">&nbsp\;&nbsp\;&nbsp\;&nbsp\;&nbsp\;&nbsp\;&nbsp\;&nbsp\;&nbsp\;&nbsp\;&nbsp\;&nbsp\;&nbsp\;&nbsp\;&nbsp\;&nbsp\;&nbsp\;&nbsp\;&nbsp\; </SPAN></SPAN></SPAN><SPAN style="FONT-FAMILY: Calibri\; FONT-SIZE: 13pt\; mso-bidi-font-family: Arial">Pass Pentucket Regional Middle &amp\; High&nbsp\;Schools\, the entrance to </SPAN><st1:place><st1:PlaceName><SPAN style="FONT-FAMILY: Calibri\; FONT-SIZE: 13pt\; mso-bidi-font-family: Arial">Nichols</SPAN></st1:PlaceName><SPAN style="FONT-FAMILY: Calibri\; FONT-SIZE: 13pt\; mso-bidi-font-family: Arial"> </SPAN><st1:PlaceType><SPAN style="FONT-FAMILY: Calibri\; FONT-SIZE: 13pt\; mso-bidi-font-family: Arial">Village</SPAN></st1:PlaceType></st1:place><SPAN style="FONT-FAMILY: Calibri\; FONT-SIZE: 13pt\; mso-bidi-font-family: Arial"> will be&nbsp\;just up on the left. <o:p></o:p></SPAN></FONT></FONT></P><P style="TEXT-INDENT: -0.5in\; MARGIN: 0in 0in 0pt 0.75in\; mso-list: l0 level1 lfo1\; tab-stops: list .75in" class=MsoNormal><FONT color=#000000><FONT size=3><SPAN style="FONT-FAMILY: Symbol\; FONT-SIZE: 13pt\; mso-bidi-font-family: Symbol\; mso-fareast-font-family: Symbol"><SPAN style="mso-list: Ignore">·<SPAN style="FONT: 7pt 'Times New Roman'">&nbsp\;&nbsp\;&nbsp\;&nbsp\;&nbsp\;&nbsp\;&nbsp\;&nbsp\;&nbsp\;&nbsp\;&nbsp\;&nbsp\;&nbsp\;&nbsp\;&nbsp\;&nbsp\;&nbsp\;&nbsp\;&nbsp\; </SPAN></SPAN></SPAN><SPAN style="FONT-FAMILY: Calibri\; FONT-SIZE: 13pt\; mso-bidi-font-family: Arial">Take a left onto </SPAN><st1:Street><st1:address><SPAN style="FONT-FAMILY: Calibri\; FONT-SIZE: 13pt\; mso-bidi-font-family: Arial"><FONT color=#800040>Nichols Way</FONT></SPAN></st1:address></st1:Street></FONT><SPAN style="FONT-FAMILY: Calibri\; FONT-SIZE: 13pt\; mso-bidi-font-family: Arial"><FONT size=3><FONT color=#800040>\,</FONT> and follow all the way up the hill to find visitor parking.</FONT>&nbsp\;&nbsp\;</SPAN></FONT></P><P style="TEXT-INDENT: -0.5in\; MARGIN: 0in 0in 0pt 0.75in\; mso-list: l0 level1 lfo1\; tab-stops: list .75in" class=MsoNormal><FONT color=#000000><SPAN style="FONT-FAMILY: Calibri\; FONT-SIZE: 13pt\; mso-bidi-font-family: Arial"></SPAN></FONT>&nbsp\;</P><P style="TEXT-INDENT: -0.5in\; MARGIN: 0in 0in 0pt 0.75in\; mso-list: l0 level1 lfo1\; tab-stops: list .75in" class=MsoNormal><FONT color=#000000><SPAN style="FONT-FAMILY: Calibri\; FONT-SIZE: 13pt\; mso-bidi-font-family: Arial">Free Admission</SPAN></FONT></P><P style="TEXT-INDENT: -0.5in\; MARGIN: 0in 0in 0pt 0.75in\; mso-list: l0 level1 lfo1\; tab-stops: list .75in" class=MsoNormal><P style="TEXT-INDENT: -0.5in\; MARGIN: 0in 0in 0pt 0.75in\; mso-list: l0 level1 lfo1\; tab-stops: list .75in" class=MsoNormal><FONT color=#000000><SPAN style="FONT-FAMILY: Calibri\; FONT-SIZE: 13pt\; mso-bidi-font-family: Arial"></SPAN></FONT></P><P style="MARGIN: 0in 0in 0pt" class=MsoNormal></SPAN></SPAN><P style="MARGIN: 0in 0in 0pt" class=MsoNormal><SPAN style="FONT-FAMILY: Calibri"><o:p><FONT color=#000000></FONT></o:p></SPAN></P><P style="MARGIN: 0in 0in 0pt" class=MsoNormal></SPAN></STRONG></FONT><FONT face=Arial><FONT color=#000000></FONT></FONT></P></FONT><A href="http://www.josephswinterstcafe.com"></A></P>
LOCATION:Nichols Village
UID:e.1189.1509
SEQUENCE:3
DTSTAMP:20260420T175739Z
URL:https://business.newburyportchamber.org/events/details/members-mixer-nichols-village-09-01-2010-1509
END:VEVENT

END:VCALENDAR
