BEGIN:VCALENDAR
VERSION:2.0
PRODID:-//ChamberMaster//Event Calendar 2.0//EN
METHOD:PUBLISH
X-PUBLISHED-TTL:P3D
REFRESH-INTERVAL:P3D
CALSCALE:GREGORIAN
BEGIN:VEVENT
DTSTART:20091014T040000Z
DTEND:20091014T040000Z
X-MICROSOFT-CDO-ALLDAYEVENT:FALSE
SUMMARY:Members' Mixer - Nichol's Village
DESCRIPTION:Celebrate Oktoberfest!Hosted by Nichol's Village Enjoy networking with friends and business associates at Nichol's Village while enjoying delicious\nand festive autumnal foods including bratwurst wellingtons\, crispy baked apple streudel\,\nhouse made warm pretzels\, candied beets and goat cheese in endive cups.\nAnd of course seasonal brews will be on tap! Free Admission Directions: Just 10 miles out of Newburyprt right off Rte 113Travel on Route 113 through West Newbury Pass Pentucket Regional Middle & High Schools\, the entrance to Nichols Village will be on the left.Take a left onto Nichols Way\, and follow up the hill to find visitor parking.  If registering after 10/13 please call the chamber at 978-462-6680 x13
X-ALT-DESC;FMTTYPE=text/html:<DIV style="FONT-FAMILY: Arial"><FONT color=#ec8717 size=4><STRONG>Celebrate Oktoberfest!</STRONG></FONT></DIV><DIV style="FONT-FAMILY: Arial"><FONT color=#000000 size=4>Hosted by Nichol's Village</FONT></DIV><DIV style="FONT-FAMILY: Arial"><FONT size=4></FONT>&nbsp\;</DIV><DIV style="FONT-FAMILY: Arial">Enjoy&nbsp\;networking with friends and business associates at Nichol's Village while enjoying delicious<BR>and festive autumnal&nbsp\;foods including bratwurst wellingtons\, crispy baked apple streudel\,<BR>house made warm pretzels\, candied beets and goat cheese in&nbsp\;endive cups.<BR>And of course seasonal brews will be on tap!</DIV><DIV style="FONT-FAMILY: Arial"><FONT size=4></FONT>&nbsp\;</DIV><DIV style="FONT-FAMILY: Arial"><STRONG>Free Admission</STRONG></DIV><DIV style="FONT-FAMILY: Arial">&nbsp\;</DIV><DIV style="FONT-FAMILY: Arial"><STRONG>Directions: Just 10 miles out of Newburyprt right off Rte 113</STRONG></DIV><DIV style="FONT-FAMILY: Arial"><LI class=bodytext>Travel on Route 113 through West Newbury <LI class=bodytext>Pass Pentucket Regional Middle &amp\; High&nbsp\;Schools\, the entrance to Nichols Village will be&nbsp\;on the left.<LI class=bodytext>Take a left onto Nichols Way\, and follow up the hill to find visitor parking.&nbsp\;&nbsp\;</LI></DIV><P class=bodytext><FONT face=Arial><STRONG><EM>If registering after 10/13 please call the chamber at&nbsp\;978-462-6680 x13</EM></STRONG></FONT></P>
LOCATION:Nichols Village
UID:e.1189.1241
SEQUENCE:3
DTSTAMP:20260421T181524Z
URL:https://business.newburyportchamber.org/events/details/members-mixer-nichol-s-village-10-14-2009-1241
END:VEVENT

END:VCALENDAR
