BEGIN:VCALENDAR
VERSION:2.0
PRODID:-//ChamberMaster//Event Calendar 2.0//EN
METHOD:PUBLISH
X-PUBLISHED-TTL:P3D
REFRESH-INTERVAL:P3D
CALSCALE:GREGORIAN
BEGIN:VEVENT
DTSTART:20110610T200000Z
DTEND:20110610T233000Z
X-MICROSOFT-CDO-ALLDAYEVENT:FALSE
SUMMARY:Members Mixer - Newburyport Waterfront Marinas - 'A Tented Affair'
DESCRIPTION:Hosted by Newburyport Marinas & Newburyport Development\n\n	 \n\n	Marinas are gateways to our nation's waters - providing access to boating and fishing for all to enjoy. Saturday\, June 11th is National Marina Day when the nation will celebrate the marina industry. And what better place is there than Newburyport to celebrate this ocassion?\n\n	Join us for the kick off on Friday afternoon\, June 10 under the big tent for some mingling while enjoying cocktails and hors d'oeuvres alongside the Merrimack River. \n\n	 \n\n	Location: Located at Harbor Marina\, Rear 51 Water Street\,\n\n	behind Starboard Galley.\n\n	 \n\n	Hors d'oeuvres * Cocktails * Great Raffles\n\n	 \n\n	Admission: \n\n	$10 Members\; $20 Non Members\n\n	* Payment can be made at door\, not online.
X-ALT-DESC;FMTTYPE=text/html:<p>\n	<span style="font-size: 14px">&nbsp\;</span></p>\n<p class="MsoNormal" style="margin: 0in 0in 0pt">\n	<span style="font-size: 14px"><span style="font-family: calibri"><span style="font-family: calibri"><font face="Arial"><font face="Arial"><strong>Hosted by <a datafld="0:0" href="http://www.newburyportmarinas.com" style="color: blue\; text-decoration: underline" target="_NewWindow" title="">Newburyport Marinas</a>&nbsp\;&amp\; <a datafld="0:0" href="http://www.newburyportdevelopment.com" style="color: blue\; text-decoration: underline" target="_NewWindow" title="">Newburyport Development</a></strong></font></font></span></span></span><br />\n	&nbsp\;</p>\n<p>\n	<span style="font-size: 14px"><span style="font-family: calibri"><span style="font-family: calibri"><font face="Arial"><font face="Arial">Marinas are gateways to our nation&#39\;s waters - providing access </font><font face="Arial">to </font><font face="Arial">boating and fishing for all to enjoy.&nbsp\;Saturday\, June 11th is <a datafld="0:0" href="http://www.nationalmarinaday.org" style="color: blue\; text-decoration: underline" target="_NewWindow" title="">National Marina Day</a> when the nation will celebrate the marina industry. And what better place is there than Newburyport to celebrate this ocassion?</font></font></span></span></span></p>\n<p>\n	<span style="font-size: 14px"><span style="font-family: calibri"><span style="font-family: calibri"><font face="Arial">Join us for the kick off&nbsp\;on Friday afternoon\, June 10 under the big tent for some mingling while enjoying&nbsp\;cocktails and hors d&#39\;oeuvres alongside the Merrimack River.&nbsp\;</font></span></span></span><br />\n	&nbsp\;</p>\n<p>\n	<span style="font-size: 14px"><span style="font-family: calibri"><span style="font-family: calibri"><font face="Arial"><strong>Location:</strong> <span style="font-family: calibri\; mso-fareast-font-family: 'times new roman'\; mso-bidi-font-family: arial\; mso-ansi-language: en-us\; mso-fareast-language: en-us\; mso-bidi-language: ar-sa"><span style="font-family: arial\; mso-fareast-font-family: 'times new roman'\; mso-ansi-language: en-us\; mso-fareast-language: en-us\; mso-bidi-language: ar-sa">Located at Harbor Marina\, Rear </span></span></font></span></span></span><span style="font-family: calibri"><span style="font-family: calibri\; font-size: 14pt"><font face="Arial"><font size="3"><span style="font-family: calibri\; font-size: 12pt\; mso-fareast-font-family: 'times new roman'\; mso-bidi-font-family: arial\; mso-ansi-language: en-us\; mso-fareast-language: en-us\; mso-bidi-language: ar-sa"><st1:street><st1:address><span style="font-size: 14px"><span style="font-family: arial\; mso-fareast-font-family: 'times new roman'\; mso-ansi-language: en-us\; mso-fareast-language: en-us\; mso-bidi-language: ar-sa">51 Water Street\,</span></span></st1:address></st1:street></span></font></font></span></span><br />\n	<span style="font-size: 14px"><span style="font-family: calibri"><span style="font-family: calibri"><font face="Arial"><span style="font-family: calibri\; mso-fareast-font-family: 'times new roman'\; mso-bidi-font-family: arial\; mso-ansi-language: en-us\; mso-fareast-language: en-us\; mso-bidi-language: ar-sa"><span style="font-family: arial\; mso-fareast-font-family: 'times new roman'\; mso-ansi-language: en-us\; mso-fareast-language: en-us\; mso-bidi-language: ar-sa">behind Starboard Galley.</span></span></font></span></span></span><br />\n	&nbsp\;</p>\n<p>\n	<span style="font-size: 14px"><span style="font-family: calibri"><span style="font-family: calibri"><font face="Arial">Hors d&#39\;oeuvres *&nbsp\;Cocktails * Great Raffles</font></span></span></span><br />\n	&nbsp\;</p>\n<p>\n	<span style="font-size: 14px"><span style="font-family: calibri"><span style="font-family: calibri"><font face="Arial"><strong>Admission: </strong><br />\n	$10 Members\; $20 Non Members</font></span></span></span><br />\n	<span style="font-size: 14px"><span style="font-family: calibri"><span style="font-family: calibri"><font face="Arial"><span style="font-family: calibri"><em><strong>* Payment can be made at door\, not online.</strong></em></span></font></span></span></span></p>\n
LOCATION:Newburyport Waterfront
UID:e.1189.1661
SEQUENCE:3
DTSTAMP:20260420T020342Z
URL:https://business.newburyportchamber.org/events/details/members-mixer-newburyport-waterfront-marinas-a-tented-affair-06-10-2011-1661
END:VEVENT

END:VCALENDAR
