BEGIN:VCALENDAR
VERSION:2.0
PRODID:-//ChamberMaster//Event Calendar 2.0//EN
METHOD:PUBLISH
X-PUBLISHED-TTL:P3D
REFRESH-INTERVAL:P3D
CALSCALE:GREGORIAN
BEGIN:VEVENT
DTSTART:20111013T213000Z
DTEND:20111013T233000Z
X-MICROSOFT-CDO-ALLDAYEVENT:FALSE
SUMMARY:Members Mixer - Newburyport Art Association
DESCRIPTION:Newburyport Art Association\n\n	\n\n	Join fellow chamber members for an evening of networking and mingling among the beautiful artwork at the Newburyport Art Association.\n\n	\n\n	Become a Member of the Art Association that evening and get a discount on your membership!\n\n	\n\n	 Cocktails  *  Raffles\n\n	Hors d' Oeuvres provided by Ten Center Street\n\n	$10 Admission\n\n	Please pay at the door.\n\n	\n\n	5:30   7:30pm\n\n	65 Water Street\, Newburyport
X-ALT-DESC;FMTTYPE=text/html:<p>\n	<span style="color: #a52a2a"><span style="font-size: 14pt"><span style="font-family: calibri"><span style="font-size: 12pt"><span style="font-family: times new roman\, times"><span style="font-size: large"><span style="font-family: calibri"><strong><span style="font-family: calibri"><span style="font-size: 14pt"><span style="font-family: calibri">Newburyport Art Association</span></span></span></strong></span></span></span></span></span></span></span><br />\n	<br />\n	<span style="color: #000080"><span style="font-size: 14pt"><span style="font-family: calibri"><span style="font-size: 12pt"><span style="font-family: times new roman\, times"><span style="font-size: large"><span style="font-family: calibri"><span style="font-size: 14pt"><span style="font-family: calibri"><span style="font-size: 16px">Join fellow chamber members for an evening of networking and mingling among the beautiful artwork&nbsp\;at&nbsp\;the Newburyport Art Association.</span><br />\n	<br />\n	<strong><em><span style="font-size: 16px"><font face="Calibri">Become a Member of the&nbsp\;</font></span></em></strong></span></span></span></span></span></span></span></span></span><strong><a href="http://newburyportart.org/"><span style="font-size: 14pt"><span style="font-family: calibri"><span style="font-size: 12pt"><span style="font-family: times new roman\, times"><span style="font-size: large"><span style="font-family: calibri"><span style="font-size: 14pt"><span style="font-family: calibri"><em><span style="font-size: 16px"><font face="Calibri"><span style="color: #000080">Art Association </span></font></span></em></span></span></span></span></span></span></span></span></a></strong><span style="color: #000080"><span style="font-size: 14pt"><span style="font-family: calibri"><span style="font-size: 12pt"><span style="font-family: times new roman\, times"><span style="font-size: large"><span style="font-family: calibri"><span style="font-size: 14pt"><span style="font-family: calibri"><strong><em><span style="font-size: 16px"><font face="Calibri">that evening and get a discount on your membership!</font></span></em></strong><br />\n	<br />\n	<span style="font-size: 14pt"><span style="font-family: calibri"><span _fck_bookmark="1" style="display: none">&nbsp\;</span></span></span></span></span></span></span></span></span></span></span></span><span style="font-size: 16px"><span style="color: #000080"><span style="font-family: calibri">Cocktails&nbsp\; *&nbsp\; Raffles<br />\n	Hors d&#39\; Oeuvres provided by </span></span><span style="font-family: calibri"><a href="http://tencenterstreet.com/"><span style="color: #000080">Ten Center Street</span></a><br />\n	<span style="color: #000080">$10 Admission<br />\n	<em><strong>Please pay at the door.</strong></em></span></span><br />\n	<br />\n	<span style="font-family: calibri">5:30 &ndash\; 7:30pm<br />\n	65 Water Street\, Newburyport</span>&nbsp\;</span><br />\n	&nbsp\;</p>\n
LOCATION:65 Water Street Newburyport
UID:e.1189.1826
SEQUENCE:3
DTSTAMP:20260419T192132Z
URL:https://business.newburyportchamber.org/events/details/members-mixer-newburyport-art-association-10-13-2011-1826
END:VEVENT

END:VCALENDAR
