BEGIN:VCALENDAR
VERSION:2.0
PRODID:-//ChamberMaster//Event Calendar 2.0//EN
METHOD:PUBLISH
X-PUBLISHED-TTL:P3D
REFRESH-INTERVAL:P3D
CALSCALE:GREGORIAN
BEGIN:VEVENT
DTSTART:20110216T050000Z
DTEND:20110216T050000Z
X-MICROSOFT-CDO-ALLDAYEVENT:FALSE
SUMMARY:Members Mixer - Michael's Harborside
DESCRIPTION:Come in out of the cold and enjoy a warm eveningof networking at Michael's Harborside.  Delicious hors d’oeuvres  *   RafflesCash BarAdmission:\n$10 Members\;  $20 Non Members 5:30 – 7:30pm\n* Payment can be made at door\, not online.
X-ALT-DESC;FMTTYPE=text/html:<P></P><SPAN style="FONT-FAMILY: Calibri"><P style="MARGIN: 0in 0in 0pt" class=MsoNormal><SPAN style="FONT-FAMILY: Calibri\; FONT-SIZE: 14pt"></SPAN></P><P style="MARGIN: 0in 0in 0pt" class=MsoNormal><SPAN style="FONT-FAMILY: Calibri\; FONT-SIZE: 14pt"></SPAN></P><P style="MARGIN: 0in 0in 0pt" class=MsoNormal><SPAN style="FONT-FAMILY: Calibri\; FONT-SIZE: 14pt">Come in out&nbsp\;of the cold and enjoy a warm evening</SPAN></P><P style="MARGIN: 0in 0in 0pt" class=MsoNormal><SPAN style="FONT-FAMILY: Calibri\; FONT-SIZE: 14pt">of networking at <A style="COLOR: blue\; TEXT-DECORATION: underline" title="" dataFld=0:0 href="http://www.michaelsharborside.com" target=_NewWindow>Michael's Harborside. </A></SPAN></P><P style="MARGIN: 0in 0in 0pt" class=MsoNormal><SPAN style="FONT-FAMILY: Calibri\; FONT-SIZE: 14pt"></SPAN>&nbsp\;</P><P style="MARGIN: 0in 0in 0pt" class=MsoNormal><SPAN style="FONT-FAMILY: Calibri\; FONT-SIZE: 14pt">Delicious hors d’oeuvres<SPAN style="mso-spacerun: yes">&nbsp\; </SPAN>*<SPAN style="mso-spacerun: yes">&nbsp\;&nbsp\;</SPAN><SPAN style="mso-spacerun: yes"> Raffles</SPAN></SPAN></P><P style="MARGIN: 0in 0in 0pt" class=MsoNormal><SPAN style="FONT-FAMILY: Calibri\; FONT-SIZE: 14pt"><SPAN style="mso-spacerun: yes">Cash Bar</SPAN></SPAN></P><P style="MARGIN: 0in 0in 0pt" class=MsoNormal><SPAN style="FONT-FAMILY: Calibri\; FONT-SIZE: 14pt"><STRONG>Admission:<BR></STRONG>$10&nbsp\;Members\;&nbsp\; $20 Non Members</SPAN></P><P style="MARGIN: 0in 0in 0pt" class=MsoNormal><SPAN style="FONT-FAMILY: Calibri\; FONT-SIZE: 14pt"></SPAN>&nbsp\;</P><P style="MARGIN: 0in 0in 0pt" class=MsoNormal><?xml:namespace prefix = st1 ns = "urn:schemas-microsoft-com:office:smarttags" /><st1:time Minute="30" Hour="17"><SPAN style="FONT-FAMILY: Calibri\; FONT-SIZE: 14pt">5:30 – 7:30pm<BR></SPAN></st1:time><SPAN style="FONT-FAMILY: Calibri\; FONT-SIZE: 14pt"><?xml:namespace prefix = o ns = "urn:schemas-microsoft-com:office:office" /><o:p><SPAN style="FONT-FAMILY: Calibri\; FONT-SIZE: 14pt"><FONT color=#0000ff><EM><STRONG>* Payment can be made at door\, not online.<o:p></o:p></STRONG></EM></FONT></SPAN></P></o:p></SPAN><P></SPAN></P>
LOCATION:Michael's Harborside
UID:e.1189.1649
SEQUENCE:3
DTSTAMP:20260420T091621Z
URL:https://business.newburyportchamber.org/events/details/members-mixer-michael-s-harborside-02-16-2011-1649
END:VEVENT

END:VCALENDAR
