BEGIN:VCALENDAR
VERSION:2.0
PRODID:-//ChamberMaster//Event Calendar 2.0//EN
METHOD:PUBLISH
X-PUBLISHED-TTL:P3D
REFRESH-INTERVAL:P3D
CALSCALE:GREGORIAN
BEGIN:VEVENT
DTSTART:20110519T040000Z
DTEND:20110519T040000Z
X-MICROSOFT-CDO-ALLDAYEVENT:FALSE
SUMMARY:Members Mixer - McDougall & Duval Advertising
DESCRIPTION:McDougall & Duval Advertising  Jump start your summer with a little networking across the Merrimack in Amesbury. Mingle with host Dan Duval and other fellow chamber members on the deck overlooking the Powow River - weather permitting. Delicious hors d’oeuvres  *  Raffles  5:30 – 7:30pm
X-ALT-DESC;FMTTYPE=text/html:<P></P><SPAN style="FONT-FAMILY: Calibri"><P style="MARGIN: 0in 0in 0pt" class=MsoNormal><STRONG><SPAN style="FONT-FAMILY: Calibri\; FONT-SIZE: 14pt"><FONT color=#0080c0>McDougall &amp\; Duval Advertising</FONT></SPAN></STRONG></P><P style="MARGIN: 0in 0in 0pt" class=MsoNormal><SPAN style="FONT-FAMILY: Calibri\; FONT-SIZE: 14pt"><?xml:namespace prefix = o ns = "urn:schemas-microsoft-com:office:office" /><o:p>&nbsp\;</o:p></SPAN><SPAN style="FONT-FAMILY: Calibri\; FONT-SIZE: 14pt"><o:p>&nbsp\;</o:p></SPAN></P><P style="MARGIN: 0in 0in 0pt" class=MsoNormal><SPAN style="FONT-FAMILY: Calibri\; FONT-SIZE: 14pt"><o:p>Jump start your summer with a little networking&nbsp\;across the Merrimack in Amesbury. Mingle with host Dan Duval and&nbsp\;other fellow chamber members on the deck overlooking the Powow River - weather permitting.</o:p></SPAN></P><P style="MARGIN: 0in 0in 0pt" class=MsoNormal><SPAN style="FONT-FAMILY: Calibri\; FONT-SIZE: 14pt"><o:p></o:p></SPAN>&nbsp\;</P><P style="MARGIN: 0in 0in 0pt" class=MsoNormal><SPAN style="FONT-FAMILY: Calibri\; FONT-SIZE: 14pt">Delicious hors d’oeuvres<SPAN style="mso-spacerun: yes">&nbsp\; </SPAN>*<SPAN style="mso-spacerun: yes">&nbsp\; </SPAN>Raffles<SPAN style="mso-spacerun: yes">&nbsp\; </SPAN></SPAN></P><P style="MARGIN: 0in 0in 0pt" class=MsoNormal><SPAN style="FONT-FAMILY: Calibri\; FONT-SIZE: 14pt"><SPAN style="mso-spacerun: yes"></SPAN></SPAN><?xml:namespace prefix = st1 ns = "urn:schemas-microsoft-com:office:smarttags" /><st1:time Hour="17" Minute="30"><SPAN style="FONT-FAMILY: Calibri\; FONT-SIZE: 14pt">5:30 – 7:30pm</SPAN></st1:time><SPAN style="FONT-FAMILY: Calibri\; FONT-SIZE: 14pt"><o:p></o:p></SPAN></P><P></SPAN></P>
LOCATION:McDougall & Duval Advertising
UID:e.1189.1660
SEQUENCE:3
DTSTAMP:20260420T035733Z
URL:https://business.newburyportchamber.org/events/details/members-mixer-mcdougall-duval-advertising-05-19-2011-1660
END:VEVENT

END:VCALENDAR
