BEGIN:VCALENDAR
VERSION:2.0
PRODID:-//ChamberMaster//Event Calendar 2.0//EN
METHOD:PUBLISH
X-PUBLISHED-TTL:P3D
REFRESH-INTERVAL:P3D
CALSCALE:GREGORIAN
BEGIN:VEVENT
DTSTART:20110308T050000Z
DTEND:20110308T050000Z
X-MICROSOFT-CDO-ALLDAYEVENT:FALSE
SUMMARY:Members Mixer - Keon's at Black Swan Country Club
DESCRIPTION:Keon's at Black Swan Country Club Join us for some member networking at Keon's Grille serving casual American fare at the new Black Swan Country Club (formerly Georgetown Country Club). Delicious hors d’oeuvres  *  RafflesCash Bar5:30 - 7:30pm Admission:\n$10 Members\;  $20 Non Members* Payment can be made at door\, not online. Directions: Rte 95 to Exit 54 – Rte 133 West towards Georgetown/GrovelandTurn left onto Central Street\, Rte 133/Rt 97 at the light. Quickly turn slight right onto RT-133 W/Andover Street.Black Swan Country Club is up on the left about 1/2 mile.
X-ALT-DESC;FMTTYPE=text/html:<P></P><SPAN style="FONT-FAMILY: Calibri"><P style="MARGIN: 0in 0in 0pt" class=MsoNormal><STRONG><SPAN style="FONT-FAMILY: Calibri\; FONT-SIZE: 14pt"><FONT color=#0080c0>Keon's at Black Swan Country Club</FONT></SPAN></STRONG></P><P style="MARGIN: 0in 0in 0pt" class=MsoNormal><SPAN style="FONT-FAMILY: Calibri\; FONT-SIZE: 14pt"><?xml:namespace prefix = o ns = "urn:schemas-microsoft-com:office:office" /><o:p>&nbsp\;</o:p></SPAN></P><P style="MARGIN: 0in 0in 0pt" class=MsoNormal><SPAN style="FONT-FAMILY: Calibri\; FONT-SIZE: 14pt">Join us for some member networking at <A style="COLOR: blue\; TEXT-DECORATION: underline" title="" dataFld=0:0 href="http://www.events.blackswancountryclub.com/keons/" target=_NewWindow>Keon's Grille</A> serving casual American fare at the new Black Swan Country Club (formerly Georgetown Country Club).</SPAN></P><P style="MARGIN: 0in 0in 0pt" class=MsoNormal><SPAN style="FONT-FAMILY: Calibri\; FONT-SIZE: 14pt"><o:p>&nbsp\;</o:p></SPAN></P><P style="MARGIN: 0in 0in 0pt" class=MsoNormal><SPAN style="FONT-FAMILY: Calibri\; FONT-SIZE: 14pt">Delicious hors d’oeuvres<SPAN style="mso-spacerun: yes">&nbsp\; </SPAN>*<SPAN style="mso-spacerun: yes">&nbsp\; </SPAN>Raffles</SPAN></P><P style="MARGIN: 0in 0in 0pt" class=MsoNormal><SPAN style="FONT-FAMILY: Calibri\; FONT-SIZE: 14pt">Cash Bar</SPAN></P><P style="MARGIN: 0in 0in 0pt" class=MsoNormal><SPAN style="FONT-FAMILY: Calibri\; FONT-SIZE: 14pt">5:30 - 7:30pm</SPAN></P><P style="MARGIN: 0in 0in 0pt" class=MsoNormal><SPAN style="FONT-FAMILY: Calibri\; FONT-SIZE: 14pt"></SPAN>&nbsp\;</P><SPAN style="FONT-FAMILY: Calibri\; FONT-SIZE: 14pt"><P style="MARGIN: 0in 0in 0pt" class=MsoNormal><SPAN style="FONT-FAMILY: Calibri\; FONT-SIZE: 14pt"><STRONG>Admission:<BR></STRONG>$10&nbsp\;Members\;&nbsp\; $20 Non Members</SPAN></P><P style="MARGIN: 0in 0in 0pt" class=MsoNormal></SPAN><SPAN style="FONT-FAMILY: Calibri\; FONT-SIZE: 14pt"><o:p><SPAN style="FONT-FAMILY: Calibri\; FONT-SIZE: 14pt"><EM><STRONG><FONT color=#0080c0>* Payment can be made at door\, not online.</FONT></STRONG></EM></SPAN></o:p></SPAN></P><P style="MARGIN: 0in 0in 0pt" class=MsoNormal><SPAN style="FONT-FAMILY: Calibri\; FONT-SIZE: 14pt"><o:p><SPAN style="FONT-FAMILY: Calibri\; FONT-SIZE: 14pt"><EM><STRONG><FONT color=#0080c0></FONT></STRONG></EM></SPAN></o:p></SPAN>&nbsp\;</P><P style="MARGIN: 0in 0in 0pt" class=MsoNormal><SPAN style="FONT-FAMILY: Calibri\; FONT-SIZE: 14pt"><o:p><SPAN style="FONT-FAMILY: Calibri\; FONT-SIZE: 14pt"><FONT color=#0080c0><STRONG><EM><FONT color=#ff0000>Directions: </FONT></EM></STRONG></P><P style="MARGIN: 0in 0in 0pt" class=MsoNormal><SPAN style="FONT-FAMILY: Calibri"><FONT size=3><FONT color=#000000>Rte 95 to <STRONG>Exit 54</STRONG> – Rte 133 West towards Georgetown/Groveland<o:p></o:p></FONT></FONT></SPAN></P><P style="MARGIN: 0in 7.5pt 0pt 0in" class=MsoNormal><FONT size=3><FONT color=#000000><SPAN class=nav-cmd2><SPAN style="FONT-FAMILY: Calibri\; mso-ansi-font-size: 12.0pt\; mso-bidi-font-size: 12.0pt">Turn left onto </SPAN></SPAN><?xml:namespace prefix = st1 ns = "urn:schemas-microsoft-com:office:smarttags" /><st1:Street><st1:address><SPAN class=nav-cmd2><SPAN style="FONT-FAMILY: Calibri\; mso-ansi-font-size: 12.0pt\; mso-bidi-font-size: 12.0pt">Central Street</SPAN></SPAN></st1:address></st1:Street><SPAN class=nav-cmd2><SPAN style="FONT-FAMILY: Calibri\; mso-ansi-font-size: 12.0pt\; mso-bidi-font-size: 12.0pt">\, Rte 133/Rt 97 at the light.</SPAN></SPAN><SPAN style="FONT-FAMILY: Calibri"> <o:p></o:p></SPAN></FONT></FONT></P><P style="MARGIN: 0in 0in 0pt" class=MsoNormal><FONT size=3><FONT color=#000000><SPAN class=nav-cmd2><SPAN style="FONT-FAMILY: Calibri\; mso-ansi-font-size: 12.0pt\; mso-bidi-font-size: 12.0pt">Quickly turn <STRONG>slight right</STRONG> onto </SPAN></SPAN><st1:Street><st1:address><SPAN class=nav-cmd2><SPAN style="FONT-FAMILY: Calibri\; mso-ansi-font-size: 12.0pt\; mso-bidi-font-size: 12.0pt">RT-133 W/Andover Street</SPAN></SPAN></st1:address></st1:Street><SPAN class=nav-cmd2><SPAN style="FONT-FAMILY: Calibri\; mso-ansi-font-size: 12.0pt\; mso-bidi-font-size: 12.0pt">.<o:p></o:p></SPAN></SPAN></FONT></FONT></P><P style="MARGIN: 0in 0in 0pt" class=MsoNormal><SPAN class=nav-cmd2><SPAN style="FONT-FAMILY: Calibri\; mso-ansi-font-size: 12.0pt\; mso-bidi-font-size: 12.0pt"><FONT color=#000000 size=3>Black Swan Country Club is up on the left about 1/2 mile.</FONT></SPAN></SPAN></P><P style="MARGIN: 0in 0in 0pt" class=MsoNormal><o:p></o:p></FONT></SPAN>&nbsp\;</P></o:p></SPAN><P></SPAN></P>
LOCATION:Keon's at Black Swan Country Club
UID:e.1189.1659
SEQUENCE:3
DTSTAMP:20260420T073657Z
URL:https://business.newburyportchamber.org/events/details/members-mixer-keon-s-at-black-swan-country-club-03-08-2011-1659
END:VEVENT

END:VCALENDAR
