BEGIN:VCALENDAR
VERSION:2.0
PRODID:-//ChamberMaster//Event Calendar 2.0//EN
METHOD:PUBLISH
X-PUBLISHED-TTL:P3D
REFRESH-INTERVAL:P3D
CALSCALE:GREGORIAN
BEGIN:VEVENT
DTSTART:20090923T040000Z
DTEND:20090923T040000Z
X-MICROSOFT-CDO-ALLDAYEVENT:FALSE
SUMMARY:Members' Mixer - Jewett Farms
DESCRIPTION:Hosted by Jewett Farms Studio 58 Merrimac Street\, Unit 1Downton Newburyport(next door to Interlocks)  Celebrating their 1st Anniversary!Join us in their beautiful Newburyport kitchen showroom with fine custom\ncabinetry for some member mixing and mingling.Jewett Farms & Co. was founded in 1999 with the vision of establishing a cabinet\nshop that would celebrate the traditional woodworking art and craft of New England.\nToday\, they are proud to design and build some of the finest cabinetry and\nfurniture pieces in the northeast. Enjoy sumptious hors d'oeuvres and desserts as well as libations provided\nby New England Wine & SpiritsAdmission:  Members $5\nNon Members $10
X-ALT-DESC;FMTTYPE=text/html:<DIV style="FONT-FAMILY: Arial"><FONT color=#008000 size=4>Hosted by Jewett Farms Studio</FONT></DIV><DIV style="FONT-FAMILY: Arial"><FONT color=#008000 size=4><FONT size=2><STRONG><FONT color=#ff0000></FONT></STRONG></FONT></FONT>&nbsp\;</DIV><DIV style="FONT-FAMILY: Arial"><FONT color=#008000 size=4><FONT size=2><FONT color=#000000>58 Merrimac Street\, Unit 1</FONT></FONT></FONT></DIV><DIV style="FONT-FAMILY: Arial"><FONT size=2>Downton Newburyport</FONT></DIV><DIV style="FONT-FAMILY: Arial"><FONT color=#008000 size=4><FONT size=2><FONT color=#000000>(next door to Interlocks)&nbsp\;&nbsp\;</FONT></FONT></DIV><DIV style="FONT-FAMILY: Arial"><P><FONT color=#ff0000 size=2><STRONG><EM>Celebrating&nbsp\;their 1st Anniversary!</EM></STRONG></FONT></P><P><FONT color=#000000 size=2>Join us in their beautiful Newburyport&nbsp\;kitchen showroom with fine custom<BR>cabinetry for some member mixing and mingling.</FONT></P><P><FONT color=#000000 size=2>Jewett Farms &amp\; Co. was founded in 1999 with the vision of establishing a cabinet<BR>shop that would celebrate the traditional woodworking art and craft of New England.<BR>Today\, they are proud to design and build some of the finest cabinetry and<BR>furniture pieces in the northeast. </FONT></P><P><FONT size=3>Enjoy sumptious hors d'oeuvres and desserts as well as libations provided<BR>by New England Wine &amp\; Spirits</FONT></P><P><FONT size=3>Admission:&nbsp\; Members $5<BR>Non Members $10</FONT></P><P>&nbsp\;</P></FONT></DIV>
LOCATION:Jewett Farms Studio
UID:e.1189.1169
SEQUENCE:3
DTSTAMP:20260421T200753Z
URL:https://business.newburyportchamber.org/events/details/members-mixer-jewett-farms-09-23-2009-1169
END:VEVENT

END:VCALENDAR
