BEGIN:VCALENDAR
VERSION:2.0
PRODID:-//ChamberMaster//Event Calendar 2.0//EN
METHOD:PUBLISH
X-PUBLISHED-TTL:P3D
REFRESH-INTERVAL:P3D
CALSCALE:GREGORIAN
BEGIN:VEVENT
DTSTART:20100922T040000Z
DTEND:20100922T040000Z
X-MICROSOFT-CDO-ALLDAYEVENT:FALSE
SUMMARY:Members' Mixer - Jewett Farms
DESCRIPTION:Hosted by Jewett Farms Studio 58 Merrimac Street\, Unit 1Downton Newburyport(next door to Interlocks)  Celebrating their 2nd Anniversary in Newburyport!Join us in their beautiful Newburyport kitchen showroom with fine custom\ncabinetry for some member mixing and mingling.Jewett Farms & Co. was founded in 1999 with the vision of establishing a cabinet\nshop that would celebrate the traditional woodworking art and craft of New England.\nToday\, they are proud to design and build some of the finest cabinetry and\nfurniture pieces in the northeast. EnCatering by Carry Out CafeEnjoy sumptuous hors d'oeuvres\, cocktails and great raffles!\nWin a free pair of tickets to the opening night of Tony & Tina's Wedding at Blue Ocean Music Hall on 9/23!Admission:  Members $10\nNon Members $20
X-ALT-DESC;FMTTYPE=text/html:<DIV style="FONT-FAMILY: Arial"><FONT color=#710000 size=4><STRONG>Hosted by Jewett Farms Studio</STRONG></FONT></DIV><DIV style="FONT-FAMILY: Arial"><FONT color=#008000 size=4><FONT size=2><STRONG><FONT color=#ff0000></FONT></STRONG></FONT></FONT>&nbsp\;</DIV><DIV style="FONT-FAMILY: Arial"><FONT color=#008000 size=4><FONT size=2><FONT color=#000000>58 Merrimac Street\, Unit 1</FONT></FONT></FONT></DIV><DIV style="FONT-FAMILY: Arial"><FONT size=2>Downton Newburyport</FONT></DIV><DIV style="FONT-FAMILY: Arial"><FONT color=#008000 size=4><FONT size=2><FONT color=#000000>(next door to Interlocks)&nbsp\;&nbsp\;</FONT></FONT></DIV><DIV style="FONT-FAMILY: Arial"><P><FONT color=#0000ff size=2><EM><STRONG>Celebrating&nbsp\;their 2nd Anniversary in Newburyport!</STRONG></EM></FONT></P><P><FONT color=#000000 size=2>Join us in their beautiful Newburyport&nbsp\;kitchen showroom with fine custom<BR>cabinetry for some member mixing and mingling.</FONT></P><P><FONT color=#000000 size=2>Jewett Farms &amp\; Co. was founded in 1999 with the vision of establishing a cabinet<BR>shop that would celebrate the traditional woodworking art and craft of New England.<BR>Today\, they are proud to design and build some of the finest cabinetry and<BR>furniture pieces in the northeast. </FONT></P><P><FONT size=3><FONT color=#660000><STRONG>EnCatering by <A style="COLOR: blue\; TEXT-DECORATION: underline" title="" dataFld=0:0 href="http://www.carryoutcafe.com" target=_NewWindow><FONT color=#660000><STRONG>Carry Out Cafe</STRONG></FONT></A></STRONG></FONT></FONT></P><P><FONT size=3><FONT color=#660000><STRONG>Enjoy sumptuous hors d'oeuvres\, cocktails and great raffles!<BR></STRONG></FONT><FONT color=#660000><STRONG>Win a free pair of tickets to the opening night of&nbsp\;<A style="COLOR: blue\; TEXT-DECORATION: underline" title="" dataFld=0:0 href="http://www.blueoceanhall.com/schedule/event92310.html" target=_NewWindow>Tony &amp\; Tina's Wedding</A> at Blue Ocean Music Hall on 9/23!</STRONG></FONT></FONT></P><P><FONT color=#660000 size=3><STRONG>Admission:&nbsp\; Members $10<BR>Non Members $20</STRONG></FONT></P><P>&nbsp\;</P></FONT></DIV>
LOCATION:Jewett Farms & Company
UID:e.1189.1581
SEQUENCE:3
DTSTAMP:20260420T180102Z
URL:https://business.newburyportchamber.org/events/details/members-mixer-jewett-farms-09-22-2010-1581
END:VEVENT

END:VCALENDAR
