BEGIN:VCALENDAR
VERSION:2.0
PRODID:-//ChamberMaster//Event Calendar 2.0//EN
METHOD:PUBLISH
X-PUBLISHED-TTL:P3D
REFRESH-INTERVAL:P3D
CALSCALE:GREGORIAN
BEGIN:VEVENT
DTSTART:20100722T040000Z
DTEND:20100722T040000Z
X-MICROSOFT-CDO-ALLDAYEVENT:FALSE
SUMMARY:Members Mixer - Institution for Savings Lending Center
DESCRIPTION:Take Me Out to the Ballgame!Hit a Home Run at the Institution for Savings July Mixer Join us for a fun-filled baseball-themed mixer at the Institution for Savings Lending Center and mingle with fellow chamber members. Have some summertime fun! Get out of the heat and join us at a cool mixer.  Enjoy mini burgers and dogs\, popcorn and peanuts and more. Spin the wheel and take a chance on Red Sox tickets! Cocktails  *  Hors d'oeuvres  *  RafflesFree Admission
X-ALT-DESC;FMTTYPE=text/html:<P><P><FONT face=Arial><FONT size=4></FONT></FONT></P><FONT face=Arial><FONT color=#008000 size=4 face=Arial><P style="MARGIN: 0in 0in 0pt" class=MsoNormal><STRONG><FONT size=3><SPAN style="FONT-FAMILY: Calibri\; COLOR: green\; FONT-SIZE: 16pt">Take Me Out to the B</SPAN><?xml:namespace prefix = st1 ns = "urn:schemas-microsoft-com:office:smarttags" /><st1:PersonName><SPAN style="FONT-FAMILY: Calibri\; COLOR: green\; FONT-SIZE: 16pt">all</SPAN></st1:PersonName><SPAN style="FONT-FAMILY: Calibri\; COLOR: green\; FONT-SIZE: 16pt">game!<?xml:namespace prefix = o ns = "urn:schemas-microsoft-com:office:office" /><o:p></o:p></SPAN></FONT></STRONG></P><P style="MARGIN: 0in 0in 0pt" class=MsoNormal><SPAN style="FONT-FAMILY: Calibri\; COLOR: navy\; FONT-SIZE: 16pt"><STRONG><FONT size=3>Hit a Home Run at the Institution for Savings July Mixer<o:p></o:p></FONT></STRONG></SPAN></P><P style="MARGIN: 0in 0in 0pt" class=MsoNormal><SPAN style="FONT-FAMILY: Calibri\; FONT-SIZE: 16pt\; mso-bidi-font-family: Arial"><o:p><FONT color=#000000 size=3>&nbsp\;</FONT></o:p></SPAN></P><P style="MARGIN: 0in 0in 0pt" class=MsoNormal><FONT color=#000000><FONT size=3><SPAN><SPAN style="mso-spacerun: yes">Join </SPAN>us for a fun-filled baseball-themed mixer at the <STRONG>Institution for Savings Lending Center</STRONG> and mingle with fellow chamber members. Have some summertime fun! Get out of the heat and join us at a cool mixer. </SPAN></FONT></FONT></P><P style="MARGIN: 0in 0in 0pt" class=MsoNormal><FONT color=#000000><FONT size=3><SPAN></SPAN></FONT></FONT>&nbsp\;</P><P style="MARGIN: 0in 0in 0pt" class=MsoNormal><FONT color=#000000><FONT size=3><SPAN>Enjoy mini&nbsp\;burgers and dogs\, popcorn and peanuts and more. Spin the wheel and take a chance on <FONT color=#ff0000><STRONG>Red Sox</STRONG></FONT> tickets!</SPAN></FONT></FONT></P><P style="MARGIN: 0in 0in 0pt" class=MsoNormal><FONT color=#000000><FONT size=3><SPAN></SPAN></FONT></FONT>&nbsp\;</P><P style="MARGIN: 0in 0in 0pt" class=MsoNormal><FONT color=#000000><FONT size=3><SPAN>Cocktails&nbsp\; * &nbsp\;Hors d'oeuvres&nbsp\; *&nbsp\; Raffles</SPAN></FONT></FONT></P><P style="MARGIN: 0in 0in 0pt" class=MsoNormal><FONT color=#000000><FONT size=3><SPAN>Free Admission</SPAN></FONT></FONT></P><P style="MARGIN: 0in 0in 0pt" class=MsoNormal><P style="MARGIN: 0in 0in 0pt" class=MsoNormal><SPAN><FONT color=#000000><FONT size=3><o:p></o:p></FONT></FONT></SPAN></P></FONT><FONT face=Arial><FONT color=#000000></FONT></FONT><P></P></FONT><A href="http://www.josephswinterstcafe.com"></A>
LOCATION:Institution for Savings
UID:e.1189.1508
SEQUENCE:3
DTSTAMP:20260421T030258Z
URL:https://business.newburyportchamber.org/events/details/members-mixer-institution-for-savings-lending-center-07-22-2010-1508
END:VEVENT

END:VCALENDAR
