BEGIN:VCALENDAR
VERSION:2.0
PRODID:-//ChamberMaster//Event Calendar 2.0//EN
METHOD:PUBLISH
X-PUBLISHED-TTL:P3D
REFRESH-INTERVAL:P3D
CALSCALE:GREGORIAN
BEGIN:VEVENT
DTSTART:20090311T040000Z
DTEND:20090311T040000Z
X-MICROSOFT-CDO-ALLDAYEVENT:FALSE
SUMMARY:Members' Mixer - Healthcare Complete
DESCRIPTION:Hosted by Healthcare CompleteGet out of the cold and enjoy a Jimmy Buffet evening complete with margaritas and fun music!Cocktails\, hors d'oeuvres\, raffle prizes\n\n$5 Admission Members\n$10 Non MembersBring your business promotional materials for the share table.
X-ALT-DESC;FMTTYPE=text/html:<FONT size=4><P><FONT color=#ff0000><STRONG>Hosted by Healthcare Complete</STRONG></FONT></P><P>Get out of the cold and enjoy a Jimmy Buffet evening complete with margaritas and fun music!</P><P>Cocktails\, hors d'oeuvres\, raffle prizes<BR><BR>$5 Admission Members<BR>$10 Non Members</P><P>Bring your business promotional materials for the share table.</P></FONT><FONT size=2></FONT>
LOCATION:Healthcare Complete
UID:e.1189.1184
SEQUENCE:3
DTSTAMP:20260422T061310Z
URL:https://business.newburyportchamber.org/events/details/members-mixer-healthcare-complete-03-11-2009-1184
END:VEVENT

END:VCALENDAR
