BEGIN:VCALENDAR
VERSION:2.0
PRODID:-//ChamberMaster//Event Calendar 2.0//EN
METHOD:PUBLISH
X-PUBLISHED-TTL:P3D
REFRESH-INTERVAL:P3D
CALSCALE:GREGORIAN
BEGIN:VEVENT
DTSTART:20090716T040000Z
DTEND:20090716T040000Z
X-MICROSOFT-CDO-ALLDAYEVENT:FALSE
SUMMARY:Members' Mixer - Groveland Fairways
DESCRIPTION:Hosted by Groveland Fairways Enjoy an evening of networking at this beautiful golf\n& special event facility! The perfect place for your gathering.\nYou can also mingle on the outdoor patio weather-permitting. Hors d'oeuvres by Harborside CateringCash Bar  *  Raffles Free Admission Follow Rte 113 West to Groveland.\nThe facility will be on your left.Less than 10 miles from downtown Newburyport! Click here to view slideshow:http://www.grovelandfairways.com/slideshownew.htm
X-ALT-DESC;FMTTYPE=text/html:<DIV style="FONT-FAMILY: Arial"><FONT color=#008000 size=4><STRONG>Hosted by Groveland Fairways</STRONG></FONT></DIV><DIV style="FONT-FAMILY: Arial">&nbsp\;</DIV><DIV style="FONT-FAMILY: Arial"><FONT face=Georgia color=#800000><FONT size=4><FONT face=Arial color=#000000>Enjoy an evening of networking at this beautiful golf<BR>&amp\; special event facility!</FONT> </FONT></FONT><FONT size=4>The perfect place for your gathering.<BR>You can also mingle on the </FONT><FONT size=4>outdoor patio weather-permitting.</FONT></DIV><DIV style="FONT-FAMILY: Arial"><FONT size=4></FONT>&nbsp\;</DIV><DIV style="FONT-FAMILY: Arial"><FONT size=4>Hors d'oeuvres by Harborside Catering</FONT></DIV><DIV style="FONT-FAMILY: Arial"><FONT size=4>Cash Bar&nbsp\; *&nbsp\; Raffles</FONT></DIV><DIV style="FONT-FAMILY: Arial"><FONT size=4></FONT>&nbsp\;</DIV><DIV style="FONT-FAMILY: Arial"><FONT size=4>Free Admission</FONT></DIV><DIV style="FONT-FAMILY: Arial"><FONT size=4></FONT>&nbsp\;</DIV><DIV style="FONT-FAMILY: Arial"><FONT size=4>Follow Rte 113 West to Groveland.<BR>The facility will be on your left.</FONT></DIV><DIV style="FONT-FAMILY: Arial"><FONT size=4>Less than 10&nbsp\;miles from downtown Newburyport!</FONT></DIV><DIV style="FONT-FAMILY: Arial"><FONT size=4></FONT>&nbsp\;</DIV><DIV style="FONT-FAMILY: Arial"><STRONG><FONT size=4>Click here to view slideshow:</FONT></STRONG></DIV><DIV style="FONT-FAMILY: Arial"><A href="http://www.grovelandfairways.com/slideshownew.htm"><FONT size=4>http://www.grovelandfairways.com/slideshownew.htm</FONT></A></DIV><DIV style="FONT-FAMILY: Arial">&nbsp\;</DIV>
LOCATION:Groveland Fairways LLC
UID:e.1189.1173
SEQUENCE:3
DTSTAMP:20260421T215025Z
URL:https://business.newburyportchamber.org/events/details/members-mixer-groveland-fairways-07-16-2009-1173
END:VEVENT

END:VCALENDAR
