BEGIN:VCALENDAR
VERSION:2.0
PRODID:-//ChamberMaster//Event Calendar 2.0//EN
METHOD:PUBLISH
X-PUBLISHED-TTL:P3D
REFRESH-INTERVAL:P3D
CALSCALE:GREGORIAN
BEGIN:VEVENT
DTSTART:20090114T050000Z
DTEND:20090114T050000Z
X-MICROSOFT-CDO-ALLDAYEVENT:FALSE
SUMMARY:Members' Mixer - Garrison Inn & David's Tavern
DESCRIPTION:Hosted by the Garrison Inn & David's TavernStart the New Year off right with some great networking!  Join us at the Garrison Inn and enjoy great food by David's Restaurant at this jointly hosted members mixer.Cocktails\, hors d'oeuvres\, raffle prizes\n$5 AdmissionBrown Square -across from City Hall.Bring your business promotional materials for the share table.
X-ALT-DESC;FMTTYPE=text/html:<P><FONT color=#ff0000><STRONG>Hosted by the Garrison Inn &amp\;&nbsp\;David's Tavern</STRONG></FONT></P><P>Start the New Year off right with some great networking!&nbsp\; Join us at the Garrison Inn and enjoy great food by David's Restaurant at this jointly hosted members mixer.</P><P>Cocktails\, hors d'oeuvres\, raffle prizes<BR>$5 Admission</P><P>Brown Square -across from City Hall.</P><P>Bring your business promotional materials for the share table.</P><P>&nbsp\;</P><P>&nbsp\;</P><P><STRONG><FONT color=#ff8000></FONT></STRONG>&nbsp\;</P><P>&nbsp\;</P><P><FONT face=Georgia color=#800000 size=1></FONT>&nbsp\;</P>
LOCATION:Garrison Inn & David's
UID:e.1189.1076
SEQUENCE:3
DTSTAMP:20260422T074703Z
URL:https://business.newburyportchamber.org/events/details/members-mixer-garrison-inn-david-s-tavern-01-14-2009-1076
END:VEVENT

END:VCALENDAR
