BEGIN:VCALENDAR
VERSION:2.0
PRODID:-//ChamberMaster//Event Calendar 2.0//EN
METHOD:PUBLISH
X-PUBLISHED-TTL:P3D
REFRESH-INTERVAL:P3D
CALSCALE:GREGORIAN
BEGIN:VEVENT
DTSTART:20090610T040000Z
DTEND:20090610T040000Z
X-MICROSOFT-CDO-ALLDAYEVENT:FALSE
SUMMARY:Members' Mixer - Firehouse Theatre for the Arts
DESCRIPTION:Hosted by the Firehouse Center for the Arts and Not Your Average Joe's. Enjoy an evening of spring networking at the beautiful Firehouse Center for the Arts and enjoy tasty hors d'oeuvres provided by Not Your Average Joe's. Weather permitting\, enjoy mingling on the balcony overlooking the Merrimac River. The historic building that houses the Firehouse Center for the Arts was builtas a market house and lyceum by the citizens of Newburyport in 1823.As such\, it hosted such distinguished speakers as Ralph Waldo Emerson\,Daniel Webster and Oliver Wendell Holmes. It then served as the CentralFire Station from the mid 1800’s until 1980. Cocktails  *  Hors d'oeuvres  *  RafflesBring your business cards and promotional materials for the display table. $5 Admission Members$10 Non Members
X-ALT-DESC;FMTTYPE=text/html:<DIV style="FONT-FAMILY: Arial"><STRONG><FONT color=#ff0000>Hosted by&nbsp\;the Firehouse Center for the Arts and Not Your Average Joe's.</FONT></STRONG></DIV><DIV style="FONT-FAMILY: Arial">&nbsp\;</DIV><DIV style="FONT-FAMILY: Arial">Enjoy an evening of spring networking at the beautiful Firehouse Center for the Arts and enjoy tasty hors d'oeuvres provided by Not Your Average Joe's.</DIV><DIV style="FONT-FAMILY: Arial">&nbsp\;</DIV><DIV style="FONT-FAMILY: Arial">Weather permitting\, enjoy mingling on the balcony overlooking the Merrimac River.</DIV><DIV style="FONT-FAMILY: Arial">&nbsp\;</DIV><DIV style="FONT-FAMILY: Arial">The historic building that houses the Firehouse Center for the Arts was built</DIV><DIV style="FONT-FAMILY: Arial">as a market house and lyceum by the citizens of Newburyport in 1823.</DIV><DIV style="FONT-FAMILY: Arial">As such\, it hosted such distinguished speakers as Ralph Waldo Emerson\,</DIV><DIV style="FONT-FAMILY: Arial">Daniel Webster and Oliver Wendell Holmes. It then served as the Central</DIV><DIV style="FONT-FAMILY: Arial">Fire Station from the mid 1800’s until 1980.</DIV><DIV style="FONT-FAMILY: Arial"><FONT size=4></FONT>&nbsp\;</DIV><DIV style="FONT-FAMILY: Arial">Cocktails&nbsp\; *&nbsp\; Hors d'oeuvres &nbsp\;*&nbsp\; Raffles</DIV><DIV style="FONT-FAMILY: Arial">Bring your business cards and promotional materials for the display table.</DIV><DIV style="FONT-FAMILY: Arial">&nbsp\;</DIV><DIV style="FONT-FAMILY: Arial">$5 Admission Members</DIV><DIV style="FONT-FAMILY: Arial">$10 Non Members</DIV><DIV style="FONT-FAMILY: Arial">&nbsp\;</DIV>
LOCATION:Market Square
UID:e.1189.1179
SEQUENCE:3
DTSTAMP:20260421T231858Z
URL:https://business.newburyportchamber.org/events/details/members-mixer-firehouse-theatre-for-the-arts-06-10-2009-1179
END:VEVENT

END:VCALENDAR
