BEGIN:VCALENDAR
VERSION:2.0
PRODID:-//ChamberMaster//Event Calendar 2.0//EN
METHOD:PUBLISH
X-PUBLISHED-TTL:P3D
REFRESH-INTERVAL:P3D
CALSCALE:GREGORIAN
BEGIN:VEVENT
DTSTART:20110420T040000Z
DTEND:20110420T040000Z
X-MICROSOFT-CDO-ALLDAYEVENT:FALSE
SUMMARY:Members Mixer - Firehouse Center for the Arts
DESCRIPTION:Firehouse Center for the Artsin Partnership with Not Your Average Joe's Enjoy business networking at the\nFirehouse Center for the Arts. \nMingle on the patio weather permitting. Delicious hors d’oeuvres  *  Raffles 5:30 – 7:30pm Free Admission
X-ALT-DESC;FMTTYPE=text/html:<P></P><SPAN style="FONT-FAMILY: Calibri"><P style="MARGIN: 0in 0in 0pt" class=MsoNormal><SPAN style="FONT-FAMILY: Calibri\; FONT-SIZE: 14pt"><FONT color=#e17100><STRONG>Firehouse Center for the Arts</STRONG></FONT></SPAN></P><P style="MARGIN: 0in 0in 0pt" class=MsoNormal><SPAN style="FONT-FAMILY: Calibri\; FONT-SIZE: 14pt"><FONT color=#e17100><STRONG>in Partnership with Not Your Average Joe's</STRONG></FONT></SPAN></P><P style="MARGIN: 0in 0in 0pt" class=MsoNormal><SPAN style="FONT-FAMILY: Calibri\; FONT-SIZE: 14pt"><?xml:namespace prefix = o ns = "urn:schemas-microsoft-com:office:office" /><o:p>&nbsp\;</o:p></SPAN></P><P style="MARGIN: 0in 0in 0pt" class=MsoNormal><SPAN style="FONT-FAMILY: Calibri\; FONT-SIZE: 14pt"><FONT size=4>Enjoy business networking at the<BR></FONT><A style="COLOR: blue\; TEXT-DECORATION: underline" title="" dataFld=0:0 href="http://www.firehouse.org     " target=_NewWindow><FONT color=#000080 size=4><STRONG>Firehouse&nbsp\;Center for the Arts.</STRONG></FONT></A><FONT size=4><FONT color=#000080><STRONG>&nbsp\;<BR></STRONG></FONT>Mingle on the&nbsp\;patio weather permitting.</FONT></SPAN></P><P style="MARGIN: 0in 0in 0pt" class=MsoNormal><SPAN style="FONT-FAMILY: Calibri\; FONT-SIZE: 14pt"><o:p><FONT size=4>&nbsp\;</FONT></o:p></SPAN></P><P style="MARGIN: 0in 0in 0pt" class=MsoNormal><SPAN style="FONT-FAMILY: Calibri\; FONT-SIZE: 14pt">Delicious hors d’oeuvres<SPAN style="mso-spacerun: yes">&nbsp\; </SPAN>*<SPAN style="mso-spacerun: yes">&nbsp\; </SPAN>Raffles<SPAN style="mso-spacerun: yes">&nbsp\;</SPAN></SPAN></P><P style="MARGIN: 0in 0in 0pt" class=MsoNormal><?xml:namespace prefix = st1 ns = "urn:schemas-microsoft-com:office:smarttags" /><st1:time Minute="30" Hour="17"><SPAN style="FONT-FAMILY: Calibri\; FONT-SIZE: 14pt">5:30 – 7:30pm</SPAN></st1:time></P><P style="MARGIN: 0in 0in 0pt" class=MsoNormal><st1:time Minute="30" Hour="17"><SPAN style="FONT-FAMILY: Calibri\; FONT-SIZE: 14pt"></SPAN></st1:time>&nbsp\;</P><P style="MARGIN: 0in 0in 0pt" class=MsoNormal><st1:time Minute="30" Hour="17"><SPAN style="FONT-FAMILY: Calibri\; FONT-SIZE: 14pt"></SPAN></st1:time><st1:time Minute="30" Hour="17"><SPAN style="FONT-FAMILY: Calibri\; FONT-SIZE: 14pt"><SPAN style="FONT-FAMILY: Calibri\; FONT-SIZE: 14pt"><STRONG>Free Admission<BR></STRONG></SPAN></P></SPAN></st1:time></SPAN>
LOCATION:Firehouse Center for the Arts
UID:e.1189.1657
SEQUENCE:3
DTSTAMP:20260420T053458Z
URL:https://business.newburyportchamber.org/events/details/members-mixer-firehouse-center-for-the-arts-04-20-2011-1657
END:VEVENT

END:VCALENDAR
