BEGIN:VCALENDAR
VERSION:2.0
PRODID:-//ChamberMaster//Event Calendar 2.0//EN
METHOD:PUBLISH
X-PUBLISHED-TTL:P3D
REFRESH-INTERVAL:P3D
CALSCALE:GREGORIAN
BEGIN:VEVENT
DTSTART:20100331T040000Z
DTEND:20100331T040000Z
X-MICROSOFT-CDO-ALLDAYEVENT:FALSE
SUMMARY:Members Mixer - David's Tavern and The Garrison Inn
DESCRIPTION:Hosted by David's Tavern & The Garrison Inn\nCome in out of the cold and do some networking!  Join us at David's Tavern and the Garrison Inn as they welcome you as co-hosts of this month's mixer.Enjoy cocktails\, hors d'oeuvres and raffle prizes\nCash BarAdmission:\n$10 Members\n$20 Non Members and Guests
X-ALT-DESC;FMTTYPE=text/html:<P><FONT size=4><FONT face=Tahoma>Hosted by </FONT><A dataFld=0:0 title="" style="COLOR: blue\; TEXT-DECORATION: underline" href="http://www.davidstavern.com/directions.html" target=_NewWindow><FONT face=Tahoma>David's Tavern</FONT></A><FONT face=Tahoma> &amp\; </FONT><A dataFld=0:0 title="" style="COLOR: blue\; TEXT-DECORATION: underline" href="http://www.garrisoninn.com  " target=_NewWindow><FONT face=Tahoma>The Garrison Inn</FONT></A></FONT><STRONG><FONT size=4><BR></FONT></STRONG></P><FONT size=4><P><FONT face=Tahoma>Come in out of the cold and do some&nbsp\;networking!&nbsp\; Join us at David's Tavern and&nbsp\;the Garrison Inn as they welcome you as co-hosts of this month's mixer.</FONT></P><P></FONT><FONT face=Tahoma size=4>Enjoy c</FONT><FONT face=Tahoma><FONT size=4>ocktails\, hors d'oeuvres and raffle prizes<BR></FONT><FONT size=4>Cash Bar</FONT></FONT></P><P><FONT size=4><FONT face=Verdana><FONT face=Tahoma color=#800000><STRONG>Admission:<BR>$10 Members<BR>$20 Non Members and Guests</STRONG></FONT><BR></FONT></FONT></P><P class=bodytext><FONT face=Arial><STRONG><EM></EM></STRONG></FONT>&nbsp\;</P><A href="http://www.josephswinterstcafe.com"></A>
LOCATION:David's Tavern & The Garrison Inn
UID:e.1189.1354
SEQUENCE:3
DTSTAMP:20260421T103349Z
URL:https://business.newburyportchamber.org/events/details/members-mixer-david-s-tavern-and-the-garrison-inn-03-31-2010-1354
END:VEVENT

END:VCALENDAR
