BEGIN:VCALENDAR
VERSION:2.0
PRODID:-//ChamberMaster//Event Calendar 2.0//EN
METHOD:PUBLISH
X-PUBLISHED-TTL:P3D
REFRESH-INTERVAL:P3D
CALSCALE:GREGORIAN
BEGIN:VEVENT
DTSTART:20090430T040000Z
DTEND:20090430T040000Z
X-MICROSOFT-CDO-ALLDAYEVENT:FALSE
SUMMARY:Members' Mixer - Capri Seaside Italian Grille & Bar
DESCRIPTION:Joint mixer with the Newburyport and Salisbury Chambers of Commerce Enjoy networking at the latest and greatest restaurant on Salisbury Beach!Capri Seaside Italian Grille & Bar offers a taste of the Mediterranean. Cash Bar * Raffles\nA complimentary Bellini and champagne glass for guests while supplies last! Free Admission\nA sampling of the delicious menu for the evening includes:\nAntipasto\, bruschetta\, mozzarella prosciutto and grilled pizzettas.At the Pasta Station:  Meet Executive Chef and Food & Beverage Director\nRichard Lambiase as he cooks Capri’s signature pasta dishes before the guests\nincluding Spaghetti Bolognese\, Rigatoni Luganega and Tagliatelle with Shrimp.And for dessert! Bite size Tiramissou\, Miniature cannolis\, Panacotta\n(our chef’s grandmother’s recipe!) Directions: From Salisbury Center\, head down 1A.Go past the State ReservationLeft at intersection (at Bevi B's) staying on 1A - this becomes No End BlvdFirst right onto Driftway1st left onto Central AveCapri will be on the left.
X-ALT-DESC;FMTTYPE=text/html:<DIV style="FONT-FAMILY: Arial"><STRONG><EM><FONT color=#8080ff><SPAN style="FONT-SIZE: 10pt\; COLOR: black\; FONT-FAMILY: Arial">Joint mixer with the </SPAN><?xml:namespace prefix = st1 ns = "urn:schemas-microsoft-com:office:smarttags" /><st1:City><st1:place><SPAN style="FONT-SIZE: 10pt\; COLOR: black\; FONT-FAMILY: Arial">Newburyport</SPAN></st1:place></st1:City><SPAN style="FONT-SIZE: 10pt\; COLOR: black\; FONT-FAMILY: Arial"> and Salisbury Chambers of Commerce</SPAN></FONT></EM></STRONG></DIV><DIV style="FONT-FAMILY: Arial"><P class=MsoNormal style="MARGIN: 0in 0in 0pt"><SPAN style="FONT-SIZE: 10pt\; COLOR: black\; FONT-FAMILY: Arial">&nbsp\;<?xml:namespace prefix = o ns = "urn:schemas-microsoft-com:office:office" /><o:p></o:p></SPAN></P><P class=MsoNormal style="MARGIN: 0in 0in 0pt"><SPAN style="FONT-SIZE: 10pt\; COLOR: black\; FONT-FAMILY: Arial">Enjoy networking at the latest and greatest restaurant on </SPAN><st1:place><st1:PlaceName><SPAN style="FONT-SIZE: 10pt\; COLOR: black\; FONT-FAMILY: Arial">Salisbury</SPAN></st1:PlaceName><SPAN style="FONT-SIZE: 10pt\; COLOR: black\; FONT-FAMILY: Arial"> </SPAN><st1:PlaceType><SPAN style="FONT-SIZE: 10pt\; COLOR: black\; FONT-FAMILY: Arial">Beach</SPAN></st1:PlaceType></st1:place><SPAN style="FONT-SIZE: 10pt\; COLOR: black\; FONT-FAMILY: Arial">!<o:p></o:p></SPAN></P><P class=MsoNormal style="MARGIN: 0in 0in 0pt"><SPAN style="FONT-SIZE: 10pt\; COLOR: black\; FONT-FAMILY: Arial">Capri Seaside Italian Grille &amp\; Bar offers a taste of the </SPAN><st1:place><SPAN style="FONT-SIZE: 10pt\; COLOR: black\; FONT-FAMILY: Arial">Mediterranean</SPAN></st1:place><SPAN style="FONT-SIZE: 10pt\; COLOR: black\; FONT-FAMILY: Arial">.<o:p></o:p></SPAN></P></DIV><DIV style="FONT-FAMILY: Arial">&nbsp\;</DIV><DIV style="FONT-FAMILY: Arial"><FONT size=2>Cash Bar * Raffles</FONT><BR><SPAN style="FONT-WEIGHT: bold\; FONT-SIZE: 10pt\; COLOR: windowtext\; FONT-FAMILY: Arial">A complimentary Bellini and champagne glass for guests while supplies last!<o:p></o:p></SPAN></DIV><DIV style="FONT-FAMILY: Arial">&nbsp\;</DIV><DIV style="FONT-FAMILY: Arial"><FONT size=2><STRONG>Free Admission</STRONG></FONT></DIV><DIV style="FONT-FAMILY: Arial"><BR><P class=MsoNormal style="MARGIN: 0in 0in 0pt"><SPAN style="FONT-FAMILY: Arial"><FONT size=2><EM><STRONG>A sampling of the delicious menu for the evening includes:<BR><o:p></o:p></STRONG></EM></FONT></SPAN></P><P class=MsoNormal style="MARGIN: 0in 0in 0pt\; mso-margin-top-alt: auto\; mso-margin-bottom-alt: auto"><SPAN style="FONT-FAMILY: Arial"><FONT size=2>Antipasto\, b<SPAN class=charchar11>ruschetta\, mozzarella prosciutto and g</SPAN>rilled pizzettas.<o:p></o:p></FONT></SPAN></P><P class=MsoNormal style="MARGIN: 0in 0in 0pt\; mso-margin-top-alt: auto\; mso-margin-bottom-alt: auto"><FONT size=2><SPAN class=charchar11><B style="mso-bidi-font-weight: normal"><I style="mso-bidi-font-style: normal"><SPAN style="FONT-FAMILY: Arial">At the </SPAN></I></B></SPAN><B><I style="mso-bidi-font-style: normal"><SPAN style="FONT-FAMILY: Arial">Pasta Station</SPAN></I></B><SPAN style="FONT-FAMILY: Arial\; mso-bidi-font-weight: bold">:&nbsp\; Meet Executive Chef and Food &amp\; Beverage Director<BR>Richard Lambiase as he cooks </SPAN><st1:place><SPAN style="FONT-FAMILY: Arial\; mso-bidi-font-weight: bold"><st1:place u1:st="on">Capri</st1:place></SPAN></st1:place><SPAN style="FONT-FAMILY: Arial\; mso-bidi-font-weight: bold">’s signature pasta dishes before the guests<BR>including </SPAN><SPAN class=charchar11><SPAN style="FONT-FAMILY: Arial">Spaghetti Bolognese\, Rigatoni Luganega and Tagliatelle with Shrimp.</SPAN></SPAN><o:p></o:p></FONT></P><P class=MsoNormal style="MARGIN: 0in 0in 0pt\; mso-margin-top-alt: auto\; mso-margin-bottom-alt: auto"><FONT size=2><B><I style="mso-bidi-font-style: normal"><SPAN style="FONT-FAMILY: Arial">And for dessert!</SPAN></I></B><SPAN style="FONT-FAMILY: Arial\; mso-bidi-font-weight: bold">&nbsp\;Bite size T</SPAN><SPAN style="FONT-FAMILY: Arial">iramissou\, Miniature cannolis\, Panacotta<BR>(our chef’s grandmother’s recipe!)</SPAN></FONT></P><P class=MsoNormal style="MARGIN: 0in 0in 0pt\; mso-margin-top-alt: auto\; mso-margin-bottom-alt: auto"><FONT size=2><SPAN style="FONT-FAMILY: Arial"></SPAN></FONT>&nbsp\;</P><P class=MsoNormal style="MARGIN: 0in 0in 0pt\; mso-margin-top-alt: auto\; mso-margin-bottom-alt: auto"><FONT size=2><SPAN style="FONT-FAMILY: Arial"><FONT color=#ff0000><STRONG>Directions:</STRONG></FONT> From Salisbury Center\,&nbsp\;head down 1A.</SPAN></FONT></P><P class=MsoNormal style="MARGIN: 0in 0in 0pt\; mso-margin-top-alt: auto\; mso-margin-bottom-alt: auto"><FONT size=2><SPAN style="FONT-FAMILY: Arial">Go past the State Reservation</SPAN></FONT></P><P class=MsoNormal style="MARGIN: 0in 0in 0pt\; mso-margin-top-alt: auto\; mso-margin-bottom-alt: auto"><FONT size=2><SPAN style="FONT-FAMILY: Arial">Left at intersection&nbsp\;(at Bevi B's) staying on 1A - this becomes No End Blvd</SPAN></FONT></P><P class=MsoNormal style="MARGIN: 0in 0in 0pt\; mso-margin-top-alt: auto\; mso-margin-bottom-alt: auto"><FONT size=2><SPAN style="FONT-FAMILY: Arial">First right onto Driftway</SPAN></FONT></P><P class=MsoNormal style="MARGIN: 0in 0in 0pt\; mso-margin-top-alt: auto\; mso-margin-bottom-alt: auto"><FONT size=2><SPAN style="FONT-FAMILY: Arial">1st left onto&nbsp\;Central Ave</SPAN></FONT></P><P class=MsoNormal style="MARGIN: 0in 0in 0pt\; mso-margin-top-alt: auto\; mso-margin-bottom-alt: auto"><FONT size=2><SPAN style="FONT-FAMILY: Arial">Capri will be on the left.</SPAN></FONT></P><P class=MsoNormal style="MARGIN: 0in 0in 0pt\; mso-margin-top-alt: auto\; mso-margin-bottom-alt: auto"><FONT size=2><SPAN style="FONT-FAMILY: Arial"></SPAN></FONT>&nbsp\;</P></DIV>
LOCATION:Capri Seaside Italian Grille & Bar
UID:e.1189.1166
SEQUENCE:3
DTSTAMP:20260422T042000Z
URL:https://business.newburyportchamber.org/events/details/members-mixer-capri-seaside-italian-grille-bar-04-30-2009-1166
END:VEVENT

END:VCALENDAR
