BEGIN:VCALENDAR
VERSION:2.0
PRODID:-//ChamberMaster//Event Calendar 2.0//EN
METHOD:PUBLISH
X-PUBLISHED-TTL:P3D
REFRESH-INTERVAL:P3D
CALSCALE:GREGORIAN
BEGIN:VEVENT
DTSTART:20110713T213000Z
DTEND:20110713T233000Z
X-MICROSOFT-CDO-ALLDAYEVENT:FALSE
SUMMARY:Members' Mixer - Amesbury Sports Park
DESCRIPTION:Hosted by Amesbury Sports Park \n\n	Joint Mixer with the Amesbury Chamber \n\n	 \n\n	Enjoy an evening of spring networking at the sport park with members from both Chamber. Weather permitting\, enjoy mingling on the outdoor deck.\n\n	 \n\n	Hors d'oeuvres  *  Raffles  *  Cash Bar\n\n	Bring your business cards and promotional materials for the display table.
X-ALT-DESC;FMTTYPE=text/html:<div style="font-family: arial">\n	<strong><font color="#ff0000">Hosted by&nbsp\;Amesbury Sports Park</font></strong>&nbsp\;<br />\n	<strong>Joint Mixer with the Amesbury Chamber </strong><br />\n	&nbsp\;</div>\n<div style="font-family: arial">\n	Enjoy an evening of spring networking at the&nbsp\;sport park with members&nbsp\;from both Chamber. Weather permitting\, enjoy mingling on the outdoor deck.</div>\n<div style="font-family: arial">\n	&nbsp\;</div>\n<div style="font-family: arial">\n	Hors d&#39\;oeuvres &nbsp\;*&nbsp\; Raffles&nbsp\; *&nbsp\; Cash Bar</div>\n<div style="font-family: arial">\n	Bring your business cards and promotional materials for the display table.</div>\n<div style="font-family: arial">\n	&nbsp\;</div>
LOCATION:12 Hunt Road Amesbury\, MA
UID:e.1189.1824
SEQUENCE:3
DTSTAMP:20260420T002434Z
URL:https://business.newburyportchamber.org/events/details/members-mixer-amesbury-sports-park-07-13-2011-1824
END:VEVENT

END:VCALENDAR
