BEGIN:VCALENDAR
VERSION:2.0
PRODID:-//ChamberMaster//Event Calendar 2.0//EN
METHOD:PUBLISH
X-PUBLISHED-TTL:P3D
REFRESH-INTERVAL:P3D
CALSCALE:GREGORIAN
BEGIN:VEVENT
DTSTART:20090212T050000Z
DTEND:20090212T050000Z
X-MICROSOFT-CDO-ALLDAYEVENT:FALSE
SUMMARY:Members' Mixer - A Hot Dish Catering
DESCRIPTION:Hosted by A Hot Dish CateringNetwork and enjoy delicious hors d'oeuvres.\nFeel the love and sip on Special Valentine's Day\nmartinis!800 Broadway\, Rte 97\nHaverhill\, MA\n\n$10 Admission *  Cash BarDirections from Newburyport:\n495 South to exit 50 (Route 97).\nBear right off exit onto route 97.\nDrive approx. 1/2 mile and turn left\nonto West Meadow Drive and a quick right\ninto plaza parking lot.
X-ALT-DESC;FMTTYPE=text/html:<P><FONT size=4>Hosted by <STRONG><FONT color=#872ea5>A Hot Dish Catering</FONT></STRONG></FONT></P><P><FONT color=#fd0000 size=4><STRONG>Network and enjoy delicious hors d'oeuvres.<BR>Feel the love and sip on Special Valentine's Day<BR>martinis!</STRONG></FONT></P><P><FONT size=4>800 Broadway\, Rte 97<BR>Haverhill\, MA<BR><BR>$10 Admission * &nbsp\;Cash Bar</FONT></P><P><FONT size=2><FONT size=3><STRONG><FONT color=#e94616>Directions from Newburyport:<BR></FONT></STRONG>495 South to exit 50 (Route 97).<BR>Bear right off exit onto route 97.<BR>Drive approx. 1/2 mile and turn left<BR>onto West Meadow Drive and a quick right<BR>into plaza parking lot.</FONT></P></FONT>
LOCATION:A Hot Dish Catering
UID:e.1189.1177
SEQUENCE:3
DTSTAMP:20260422T060813Z
URL:https://business.newburyportchamber.org/events/details/members-mixer-a-hot-dish-catering-02-12-2009-1177
END:VEVENT

END:VCALENDAR
