BEGIN:VCALENDAR
VERSION:2.0
PRODID:-//ChamberMaster//Event Calendar 2.0//EN
METHOD:PUBLISH
X-PUBLISHED-TTL:P3D
REFRESH-INTERVAL:P3D
CALSCALE:GREGORIAN
BEGIN:VEVENT
DTSTART:20120216T223000Z
DTEND:20120217T003000Z
X-MICROSOFT-CDO-ALLDAYEVENT:FALSE
SUMMARY:Member Mixer - Colden & Seymour Ear Nose Throat & Allergy
DESCRIPTION:Members Mixer - Colden & Seymour Ear Nose Throat and Allergy\n\n\n\nJoin us at the offices of Dr. Daryl Colden and Dr. Peter Seymour at our February Mixer. See the offices and enjoy cocktails and hors d'Ooeuvres as you network with fellow chamber members.\n\n\n\nFree Admission
X-ALT-DESC;FMTTYPE=text/html:<span style="color: #0000ff"><strong><span style="font-size: 14px">Members Mixer -</span> </strong><span style="font-size: 10pt"><span style="font-family: arial\,sans-serif"><span style="font-size: 14px"><strong>Colden &amp\; Seymour Ear Nose Throat and Allergy</strong></span></span></span></span><br />\n<br />\n<span style="font-size: 10pt"><span style="font-family: arial\,sans-serif">Join us at the offices of <a href="http://www.ColdenSeymourENT.com">Dr. Daryl Colden and Dr. Peter Seymour</a>&nbsp\;at our February Mixer. See the offices and&nbsp\;enjoy&nbsp\;cocktails and hors d&#39\;Ooeuvres as you network with fellow chamber members.<br />\n<br />\nFree Admission</span></span>
LOCATION:Colden & Seymour Ear Nose Throat and Allergy 1 Wallace Bashaw Jr Way Suite 3002 Newburyport\, MA 01950 Behind Anna Jaques Hospital
UID:e.1189.2504
SEQUENCE:3
DTSTAMP:20260419T141702Z
URL:https://business.newburyportchamber.org/events/details/member-mixer-colden-seymour-ear-nose-throat-allergy-02-16-2012-2504
END:VEVENT

END:VCALENDAR
