BEGIN:VCALENDAR
VERSION:2.0
PRODID:-//ChamberMaster//Event Calendar 2.0//EN
METHOD:PUBLISH
X-PUBLISHED-TTL:P3D
REFRESH-INTERVAL:P3D
CALSCALE:GREGORIAN
BEGIN:VEVENT
DTSTART;VALUE=DATE:20111119
DTEND;VALUE=DATE:20111120
TRANSP:TRANSPARENT
X-MICROSOFT-CDO-ALLDAYEVENT:TRUE
SUMMARY:Mayor's 2nd Annual Health Fair
DESCRIPTION:A day devoted to promoting Health and Wellness in Newburyport!\n\nFree healthscreenings\, information\, demonstrations and more.
X-ALT-DESC;FMTTYPE=text/html:<span style="font-size: 12px"><span style="color: blue">A day devoted to promoting Health and Wellness in </span><span style="color: blue">Newburyport</span><span style="color: blue">!</span><br />\n<span style="color: blue">Free </span><span style="color: blue">health</span><span style="color: blue">screenings\, information\, demonstrations and more.</span></span><br />\n
LOCATION:Newburyport City Hall
UID:e.1189.2308
SEQUENCE:3
DTSTAMP:20260419T173838Z
URL:https://business.newburyportchamber.org/events/details/mayor-s-2nd-annual-health-fair-11-19-2011-2308
END:VEVENT

END:VCALENDAR
