BEGIN:VCALENDAR
VERSION:2.0
PRODID:-//ChamberMaster//Event Calendar 2.0//EN
METHOD:PUBLISH
X-PUBLISHED-TTL:P3D
REFRESH-INTERVAL:P3D
CALSCALE:GREGORIAN
BEGIN:VEVENT
DTSTART:20090507T040000Z
DTEND:20090507T040000Z
X-MICROSOFT-CDO-ALLDAYEVENT:FALSE
SUMMARY:May 2009 Breakfast Forum Series
DESCRIPTION:Join us for a legislative update with State Senators Steve Baddour & Bruce Tarr and State Representatives Michael Costello & Harriet Stanley.Season Ticket Holders\, click here to RSVP!Reservations Required \nPlease note: reservations not cancelled 24 hours prior to event will be charged.
X-ALT-DESC;FMTTYPE=text/html:<DIV><SPAN class=810344419-07032008><FONT face="Times New Roman" size=2><STRONG></STRONG></FONT></SPAN></DIV><DIV><SPAN class=810344419-07032008><FONT color=#0f0f0f><FONT face=Arial><DIV><SPAN class=810344419-07032008><FONT face=Calibri color=#004080><SPAN class=810344419-07032008><FONT face=Arial><FONT color=#004080><FONT face=Calibri><SPAN class=810344419-07032008><FONT face=Arial><FONT color=#004080><FONT face=Calibri><SPAN class=810344419-07032008><FONT face=Arial><FONT color=#004080><FONT face=Calibri><DIV><SPAN class=810344419-07032008><FONT face=Calibri color=#004080><SPAN class=810344419-07032008><FONT face=Arial><FONT color=#004080><FONT face=Calibri><SPAN class=810344419-07032008><FONT face=Arial><FONT color=#004080><FONT face=Calibri><SPAN class=810344419-07032008><FONT face=Arial><FONT color=#004080><FONT face=Calibri><DIV><SPAN class=810344419-07032008><FONT face=Calibri color=#004080><P><FONT face=Arial color=#000000 size=2>Join us for a legislative update with State Senators Steve Baddour &amp\; Bruce Tarr&nbsp\;and State Representatives Michael Costello &amp\; Harriet Stanley.</FONT></P><DIV><SPAN class=810344419-07032008><FONT face=Calibri color=#004080><P><SPAN class=810344419-07032008><SPAN class=810344419-07032008><SPAN class=810344419-07032008><SPAN class=810344419-07032008><FONT face=Arial color=#000000 size=2></FONT></SPAN></SPAN></SPAN></SPAN></P><SPAN class=810344419-07032008><FONT face=Arial><FONT color=#004080><FONT face=Calibri><FONT color=red><SPAN class=810344419-07032008><FONT face=Arial><FONT color=#004080><FONT face=Calibri><FONT color=red><SPAN class=810344419-07032008><FONT face=Arial><FONT color=#004080><FONT face=Calibri><FONT color=red><SPAN class=810344419-07032008><FONT face=Arial><FONT color=#004080><FONT face=Calibri><FONT color=red><P><SPAN class=810344419-07032008><FONT face=Arial><FONT color=#004080><FONT face=Calibri><FONT color=red><SPAN class=810344419-07032008><SPAN class=810344419-07032008><FONT face=Arial><FONT size=2><FONT color=#000000><STRONG><SPAN class=810344419-07032008>Season Ticket Holders\, <A href="mailto:pmarrese@newburyportchamber.org">click here</A> to RSVP!</SPAN></STRONG></FONT></FONT></FONT></P></SPAN><P><SPAN class=810344419-07032008><FONT face=Arial><FONT size=2><FONT color=#000000><STRONG>Reservations&nbsp\;Required</STRONG> <BR>Please note: reservations not cancelled 24 hours prior to event will be charged.</FONT></FONT></FONT></SPAN></SPAN></P></FONT></FONT></FONT></FONT></SPAN></FONT></FONT></FONT></FONT></SPAN></FONT></FONT></FONT></FONT></SPAN></FONT></FONT></FONT></FONT></SPAN></FONT></FONT></FONT></FONT></SPAN></FONT></SPAN></DIV></FONT></SPAN></FONT></FONT></FONT></SPAN></FONT></FONT></FONT></SPAN></FONT></FONT></FONT></SPAN></FONT></SPAN></FONT></FONT></FONT></SPAN></FONT></FONT></FONT></SPAN></FONT></FONT></FONT></SPAN></FONT></SPAN></DIV></DIV></DIV></FONT></FONT></SPAN></DIV>
LOCATION:The Phoenix Room
UID:e.1189.1197
SEQUENCE:3
DTSTAMP:20260422T005518Z
URL:https://business.newburyportchamber.org/events/details/may-2009-breakfast-forum-series-05-07-2009-1197
END:VEVENT

END:VCALENDAR
