BEGIN:VCALENDAR
VERSION:2.0
PRODID:-//ChamberMaster//Event Calendar 2.0//EN
METHOD:PUBLISH
X-PUBLISHED-TTL:P3D
REFRESH-INTERVAL:P3D
CALSCALE:GREGORIAN
BEGIN:VEVENT
DTSTART:20100609T040000Z
DTEND:20100609T040000Z
X-MICROSOFT-CDO-ALLDAYEVENT:FALSE
SUMMARY:Marketing Committee
DESCRIPTION:The Marketing Committee meets monthly to advise the Chamber on a variety of marketing related issues.
X-ALT-DESC;FMTTYPE=text/html:<DIV>The Marketing Committee meets monthly to advise the Chamber on a variety of marketing related issues.</DIV>
LOCATION:Greater Newburyport Chamber of Commerce & Industry
UID:e.1189.1460
SEQUENCE:3
DTSTAMP:20260421T032519Z
URL:https://business.newburyportchamber.org/events/details/marketing-committee-06-09-2010-1460
END:VEVENT

END:VCALENDAR
