BEGIN:VCALENDAR
VERSION:2.0
PRODID:-//ChamberMaster//Event Calendar 2.0//EN
METHOD:PUBLISH
X-PUBLISHED-TTL:P3D
REFRESH-INTERVAL:P3D
CALSCALE:GREGORIAN
BEGIN:VEVENT
DTSTART;VALUE=DATE:20120218
DTEND;VALUE=DATE:20120219
TRANSP:TRANSPARENT
X-MICROSOFT-CDO-ALLDAYEVENT:TRUE
SUMMARY:Mardi Gras Party!!
DESCRIPTION:If you have ever been to New Orleans for Mardi Gras then you know it is one of the greatest parties in the world! If you haven't booked your trip to the land of the Cajuns for this year then why not plan to come to the bayou in Byfield instead!?\n\n	The Squeezebox Stompers will once again be providing their zydeco mojo to get your body moving and there will be some cajun fare on the evening's menu to fuel that mojo motor!\n\n	      Tickets are $15 per person at the door. Doors open 7:30pm.
X-ALT-DESC;FMTTYPE=text/html:<p style="text-align: center">\n	<span style="font-size: 14px"><span class="text"><font color="#000000"><span style="line-height: 19px">If you have ever been to New Orleans for Mardi Gras then you know it is one of the greatest parties in the world! If you haven&#39\;t booked your trip to the land of the Cajuns for this year then why not plan to come to the bayou in Byfield instead!?<br />\n	The Squeezebox Stompers will once again be providing their zydeco mojo to get your body moving and there will be some cajun fare on the evening&#39\;s menu to fuel that mojo motor!<br />\n	&nbsp\;&nbsp\;&nbsp\;&nbsp\;&nbsp\;&nbsp\;</span></font><u><font color="#000000"><span style="line-height: 19px">Tickets are $15 per person at the door. Doors open 7:30pm.</span></font></u></span><br />\n	&nbsp\;</span></p>\n
LOCATION:Byfield Community Arts Center 7 Central Street Byfield
UID:e.1189.2902
SEQUENCE:3
DTSTAMP:20260419T124228Z
URL:https://business.newburyportchamber.org/events/details/mardi-gras-party-02-18-2012-2902
END:VEVENT

END:VCALENDAR
