BEGIN:VCALENDAR
VERSION:2.0
PRODID:-//ChamberMaster//Event Calendar 2.0//EN
METHOD:PUBLISH
X-PUBLISHED-TTL:P3D
REFRESH-INTERVAL:P3D
CALSCALE:GREGORIAN
BEGIN:VEVENT
DTSTART:20090305T050000Z
DTEND:20090305T050000Z
X-MICROSOFT-CDO-ALLDAYEVENT:FALSE
SUMMARY:March 2009 Breakfast Forum Series
DESCRIPTION:"The YWCA Greater Newburyport: Celebrating 125 Years of Service to the Community."Guest Speaker\, John Feehan\, Executive Director YWCA Greater Newburyport.Reservations Required \n*Please note: reservations not cancelled 24-hours prior to event will be charged.
X-ALT-DESC;FMTTYPE=text/html:<DIV><SPAN class=810344419-07032008><FONT face="Times New Roman" size=2><STRONG></STRONG></FONT></SPAN></DIV><DIV><SPAN class=810344419-07032008><P><FONT color=#0f0f0f><FONT face=Arial>"The YWCA Greater Newburyport: Celebrating 125 Years of Service to the Community."</FONT></FONT></P><P><FONT color=#0f0f0f><FONT face=Arial>Guest Speaker\, John Feehan\, Executive Director YWCA Greater Newburyport.</FONT></FONT></P><P></SPAN><SPAN class=810344419-07032008><FONT face=Arial><FONT color=#0f0f0f><STRONG>Reservations Required <BR></STRONG>*Please note: reservations not cancelled</FONT> 24-hours prior to event will be charged.</FONT></SPAN></P></DIV>
LOCATION:Mission Oak Grill
UID:e.1189.1178
SEQUENCE:3
DTSTAMP:20260422T041506Z
URL:https://business.newburyportchamber.org/events/details/march-2009-breakfast-forum-series-03-05-2009-1178
END:VEVENT

END:VCALENDAR
