BEGIN:VCALENDAR
VERSION:2.0
PRODID:-//ChamberMaster//Event Calendar 2.0//EN
METHOD:PUBLISH
X-PUBLISHED-TTL:P3D
REFRESH-INTERVAL:P3D
CALSCALE:GREGORIAN
BEGIN:VEVENT
DTSTART;VALUE=DATE:20110729
DTEND;VALUE=DATE:20110731
TRANSP:TRANSPARENT
X-MICROSOFT-CDO-ALLDAYEVENT:TRUE
SUMMARY:Living in the Presence
DESCRIPTION:Living in the Presence\, July 29-31 (Friday dinner   Sunday lunch). Are you and God on speaking terms? Can you talk with God about things you only share with your closest friend? Have you hit the glass ceiling in your prayer life? Enrich your prayer life and breathe new vitality into your relationship with God as we look at questions such as: How will I know God has heard me? Is there a "right" way to pray? Can I be honest with God? This weekend is for newcomers as well as those who have spent many years praying. Join us as we explore a variety of ways to pray\, share experiences\, and pray together. Leaders: Paula Tanzi\, SCHC is an artist\, special educator\, and EFM mentor who is active in intercessory prayer ministry with SCHC and St. David's Episcopal Church in South Yarmouth\, MA. She served as co-leader of Adelynrood's School of Prayer in 2008. Lis Gordon\, SCHC\, was a Human Resources professional who now spends her time painting\, drawing\, and memoir writing. She was an EFM mentor formany years\, and is an active member of St. Peter's Episcopal Church in Beverly\, MA. Priscilla Wood\,SCHC\, MDiv\, is a grandmother\, a spiritual director\, and an Episcopal priest. She believes the ways of praying are as infinite and as varied as the ways the Divine expresses love. Program fee $120 Room &amp\; board $200 Total cost $320. Program check-in 4:00   6:00 pm Friday
X-ALT-DESC;FMTTYPE=text/html:Living in the Presence\, July 29-31 (Friday dinner &ndash\; Sunday lunch). Are you and God on speaking terms? Can you talk with God about things you only share with your closest friend? Have you hit the glass ceiling in your prayer life? Enrich your prayer life and breathe new vitality into your relationship with God as we look at questions such as: How will I know God has heard me? Is there a &quot\;right&quot\; way to pray? Can I be honest with God? This weekend is for newcomers as well as those who have spent many years praying. Join us as we explore a variety of ways to pray\, share experiences\, and pray together. Leaders: Paula Tanzi\, SCHC is an artist\, special educator\, and EFM mentor who is active in intercessory prayer ministry with SCHC and St. David&rsquo\;s Episcopal Church in South Yarmouth\, MA. She served as co-leader of Adelynrood&rsquo\;s School of Prayer in 2008. Lis Gordon\, SCHC\, was a Human Resources professional who now spends her time painting\, drawing\, and memoir writing. She was an EFM mentor formany years\, and is an active member of St. Peter&rsquo\;s Episcopal Church in Beverly\, MA. Priscilla Wood\,SCHC\, MDiv\, is a grandmother\, a spiritual director\, and an Episcopal priest. She believes the ways of praying are as infinite and as varied as the ways the Divine expresses love. Program fee $120 Room &amp\;amp\; board $200 Total cost $320. Program check-in 4:00 &ndash\; 6:00 pm Friday 
LOCATION:Adelynrood Retreat and Conference Center 46 Elm Street Byfield\, MA 01922
UID:e.1189.1986
SEQUENCE:3
DTSTAMP:20260420T021529Z
URL:https://business.newburyportchamber.org/events/details/living-in-the-presence-07-29-2011-1986
END:VEVENT

END:VCALENDAR
