BEGIN:VCALENDAR
VERSION:2.0
PRODID:-//ChamberMaster//Event Calendar 2.0//EN
METHOD:PUBLISH
X-PUBLISHED-TTL:P3D
REFRESH-INTERVAL:P3D
CALSCALE:GREGORIAN
BEGIN:VEVENT
DTSTART:20111218T183000Z
DTEND:20111218T194500Z
X-MICROSOFT-CDO-ALLDAYEVENT:FALSE
SUMMARY:Lenair Healing Foundation invites you to be primed for a miracle!
DESCRIPTION:YOU'RE INVITED TO BE PRIMED FOR A MIRACLE.\n\n\nDear Chamber Members:\n\n\n\nPlease join us Sunday\, December 18 at 1:30 PM EST for a very special event (via phone). Called a Telexperience\, this Group Self(s) Healing Experience (SHE) is sponsored by the Lenair Healing Foundation (501(c)(3)) at The Sanctuary.\n\n\n\nThe donation-only event primes all that are present to receive the gift of a miracle\, as thousands and thousands have received by being in the presence of Rhonda Lenair. It is presented through Rhonda   prophet\, luminary\, renowned healer and medical intuitive who is legendary for producing miracles. Since 1987\, over 30\,000 people worldwide have witnessed the miracles SHE produces.\n\n\n\nThrough Rhonda\, during this divine encounter\, you'll hear the seamless voice of all present and become one synthesized gifted voice all receive   just by being there. Each person receives in a Group Self(s) Healing Experience (SHE): SHE always produces miracles.\n\n\n\nAs written on our website through Poemantric verse\,\n\n\n\n  Through Rhonda's physiology\n\nAll meet one Self(s)* anthology\n\nWisdom\, guidance\, and Self(s) directive\n\nJudgment free\, conceived reflective\n\nIs born through one Self(s) breath\n\nTranscending all timed births and deaths\n\nOne meets what's pure that lies within\n\nTruth\, all life ends and begins\n\nIn the sanctity of inner peace\n\nA place where woes and problems cease\n\nPast timelines and all boundaried frames\n\nAll meet in one Self(s) divine domain  \n\n\n\nWe look forward to your presence at this very special occasion that will support the Lenair Healing Foundation's mission and global initiative that will save this world at large. Learn more here: http://bit.ly/ghobio. And learn about the multiple miracles that happen through what SHE offers: http://bit.ly/vriDr0.\n\n\n\nRSVP for this December 18th Telexperience now by calling Barry Lenair at 1.888.412.8392 or emailing him at barry@lenair.com.\n\n\n\nPlease invite your family and friends to be primed for a miracle\, too! And forward this to anyone that needs to be primed and touched by a miracle.\n\n\n\nAnd if you're unable to attend this event via phone\, please consider making a tax-deductible contribution to the Lenair Healing Foundation here: http://bit.ly/uDuGue.\n\n\n\nIf you are a nonprofit or support a cause that is committed to helping earth and/or its inhabitants\, please visit http://bit.ly/hugAr4 to learn more about 'One Self(s) Cause for One Self(s) Peace' and to accept LHF's donation to you.\n\n\n\n*Self(s): one infinite\, eternal macrocosm of intelligence and light energy that is constantly subdividing into finite microcosms of condensed physical matter that represents and becomes one physical unit of one non-physical whole infrastructure of intercommunicatory intelligence.\n\n\n\n*Poemantric: to learn about Poemantra and Poemantric verse\, visit: http://bit.ly/v2BVyu
X-ALT-DESC;FMTTYPE=text/html:<p style="text-align: center">\n	<span style="color: #800080"><span style="font-size: 14px"><span style="font-family: verdana"><strong><span style="background-color: #ffffff">YOU&rsquo\;RE INVITED&nbsp\;TO BE PRIMED FOR A MIRACLE.</span></strong></span></span></span></p>\n<br />\nDear Chamber Members:<br />\n<br />\nPlease join us <strong><u>Sunday\, December 18 at 1:30 PM EST </u></strong>for a very special event&nbsp\;(via phone). Called a Telexperience\, this Group Self(s) Healing Experience (SHE) is sponsored by the Lenair Healing Foundation (501(c)(3)) at The Sanctuary.<br />\n<br />\nThe donation-only event primes all that are present to receive the gift of a miracle\, as thousands and thousands have received by being in the presence of Rhonda Lenair. It is presented through Rhonda &ndash\; prophet\, luminary\, renowned healer and medical intuitive who is legendary for producing miracles. Since 1987\, over 30\,000 people worldwide have witnessed the miracles SHE produces.<br />\n<br />\nThrough Rhonda\, during this divine encounter\, you&rsquo\;ll hear the seamless voice of all present and become one synthesized gifted voice all receive &ndash\; just by being there. Each person receives in a Group Self(s) Healing Experience (SHE): SHE always produces miracles.<br />\n<br />\nAs written on our website through Poemantric verse\,<br />\n<br />\n<span style="color: #800080"><em>&hellip\; Through Rhonda&rsquo\;s physiology<br />\nAll meet one Self(s)* anthology<br />\nWisdom\, guidance\, and Self(s) directive<br />\nJudgment free\, conceived reflective<br />\nIs born through one Self(s) breath<br />\nTranscending all timed births and deaths<br />\nOne meets what&rsquo\;s pure that lies within<br />\nTruth\, all life ends and begins<br />\nIn the sanctity of inner peace<br />\nA place where woes and problems cease<br />\nPast timelines and all boundaried frames<br />\nAll meet in one Self(s) divine domain &hellip\;</em></span><br />\n<br />\nWe look forward to your presence at this very special occasion that will support the Lenair Healing Foundation&rsquo\;s mission and global initiative that will save this world at large. Learn more here: http://bit.ly/ghobio. And learn about the multiple miracles that happen through what SHE offers: http://bit.ly/vriDr0.<br />\n<br />\n<u>RSVP</u> for this December 18th Telexperience now by calling Barry Lenair at 1.888.412.8392 or emailing him at barry@lenair.com.<br />\n<br />\nPlease invite your family and friends to be primed for a miracle\, too! And forward this to anyone that needs to be primed and touched by a miracle.<br />\n<br />\nAnd if you&rsquo\;re unable to attend this event via phone\, please consider making a tax-deductible contribution to the Lenair Healing Foundation here: http://bit.ly/uDuGue.<br />\n<br />\nIf you are a nonprofit or support a cause that is committed to helping earth and/or its inhabitants\, please visit http://bit.ly/hugAr4 to learn more about &lsquo\;One Self(s) Cause for One Self(s) Peace&rsquo\; and to accept LHF&rsquo\;s donation to you.<br />\n<br />\n<span style="font-size: 9px"><span style="font-family: arial">*Self(s): one infinite\, eternal macrocosm of intelligence and light energy that is constantly subdividing into finite microcosms of condensed physical matter that represents and becomes one physical unit of one non-physical whole infrastructure of intercommunicatory intelligence.<br />\n<br />\n*Poemantric: to learn about Poemantra and Poemantric verse\, visit: http://bit.ly/v2BVyu</span></span><br />\n<br />\n&nbsp\;
LOCATION:Via Telephone - a Telexperience\; once you've registered for the event\, you'll be sent the call-in number and the password
UID:e.1189.2385
SEQUENCE:3
DTSTAMP:20260419T173129Z
URL:https://business.newburyportchamber.org/events/details/lenair-healing-foundation-invites-you-to-be-primed-for-a-miracle-12-18-2011-2385
END:VEVENT

END:VCALENDAR
