BEGIN:VCALENDAR
VERSION:2.0
PRODID:-//ChamberMaster//Event Calendar 2.0//EN
METHOD:PUBLISH
X-PUBLISHED-TTL:P3D
REFRESH-INTERVAL:P3D
CALSCALE:GREGORIAN
BEGIN:VEVENT
DTSTART;VALUE=DATE:20110817
DTEND;VALUE=DATE:20110818
TRANSP:TRANSPARENT
X-MICROSOFT-CDO-ALLDAYEVENT:TRUE
SUMMARY:Lecture with Chuck Speicher
DESCRIPTION:"Victory At Sea - A History of Nautical Inspiration in Music"\n\n	Music inspired by water and the ocean including Handel's "Water Music\," Beethoven's 6th symphony\, and Debussy's "La Mer."
X-ALT-DESC;FMTTYPE=text/html:<p class="schedule-title">\n	&quot\;Victory At Sea - A History of Nautical Inspiration in Music&quot\;<br />\n	Music inspired by water and the ocean including Handel&#39\;s &quot\;Water Music\,&quot\; Beethoven&#39\;s 6th symphony\, and Debussy&#39\;s &quot\;La Mer.&quot\;</p>\n
LOCATION:The Maritime Museum 25 Water Street\, Newburyport
UID:e.1189.2068
SEQUENCE:3
DTSTAMP:20260419T223503Z
URL:https://business.newburyportchamber.org/events/details/lecture-with-chuck-speicher-08-17-2011-2068
END:VEVENT

END:VCALENDAR
