BEGIN:VCALENDAR
VERSION:2.0
PRODID:-//ChamberMaster//Event Calendar 2.0//EN
METHOD:PUBLISH
X-PUBLISHED-TTL:P3D
REFRESH-INTERVAL:P3D
CALSCALE:GREGORIAN
BEGIN:VEVENT
DTSTART;VALUE=DATE:20110814
DTEND;VALUE=DATE:20110815
TRANSP:TRANSPARENT
X-MICROSOFT-CDO-ALLDAYEVENT:TRUE
SUMMARY:Lecture / Panel Discussion / Music with Chuck Speicher and the Festival Quartet
DESCRIPTION:A sampling of some of the week's music and a panel discussion with the quartet.
X-ALT-DESC;FMTTYPE=text/html:<p class="schedule-work">\n	A sampling of some of the week&#39\;s music and a panel discussion with the quartet.</p>\n
LOCATION:The Maritime Museum 25 Water Street\, Newburyport
UID:e.1189.2061
SEQUENCE:3
DTSTAMP:20260419T225854Z
URL:https://business.newburyportchamber.org/events/details/lecture-panel-discussion-music-with-chuck-speicher-and-the-festival-quartet-08-14-2011-2061
END:VEVENT

END:VCALENDAR
