BEGIN:VCALENDAR
VERSION:2.0
PRODID:-//ChamberMaster//Event Calendar 2.0//EN
METHOD:PUBLISH
X-PUBLISHED-TTL:P3D
REFRESH-INTERVAL:P3D
CALSCALE:GREGORIAN
BEGIN:VEVENT
DTSTART:20110723T230000Z
DTEND:20110724T010000Z
X-MICROSOFT-CDO-ALLDAYEVENT:FALSE
SUMMARY:Lance Bryant Quintet
DESCRIPTION:see website\n\nmaudslayartscenter.org
X-ALT-DESC;FMTTYPE=text/html:see website<br />\nmaudslayartscenter.org
LOCATION:Maudslay State Park 95 Curzon Mills Road Newburyport
UID:e.1189.1979
SEQUENCE:3
DTSTAMP:20260420T001749Z
URL:https://business.newburyportchamber.org/events/details/lance-bryant-quintet-07-23-2011-1979
END:VEVENT

END:VCALENDAR
