BEGIN:VCALENDAR
VERSION:2.0
PRODID:-//ChamberMaster//Event Calendar 2.0//EN
METHOD:PUBLISH
X-PUBLISHED-TTL:P3D
REFRESH-INTERVAL:P3D
CALSCALE:GREGORIAN
BEGIN:VEVENT
DTSTART:20221202T000000Z
DTEND:20221202T013000Z
X-MICROSOFT-CDO-ALLDAYEVENT:FALSE
SUMMARY:Ladies Night out Chair Dance Workshop
DESCRIPTION:Welcome ladies! This is a no experience necessary workshop with Abby "aka" Scarlet Fever! A great low impact full body workout and dance in one. Abby will lead class through a full body warm up followed by a dance demo and she will break down the sequence step by step. This is a popular class reserve early! 15-20ppl max
X-ALT-DESC;FMTTYPE=text/html:Welcome ladies! This is a no experience necessary workshop with Abby &quot\;aka&quot\; Scarlet Fever! A great low impact full body workout and dance in one. Abby will lead class through a full body warm up followed by a dance demo and she will break down the sequence step by step. This is a popular class reserve early! 15-20ppl max
LOCATION:Aurora Ballroom 141 Bridge Rd. ( 2nd fl) Salisbury\, MA 01952
UID:e.1189.99342
SEQUENCE:3
DTSTAMP:20260425T104613Z
URL:https://business.newburyportchamber.org/events/details/ladies-night-out-chair-dance-workshop-99342
END:VEVENT

END:VCALENDAR
