BEGIN:VCALENDAR
VERSION:2.0
PRODID:-//ChamberMaster//Event Calendar 2.0//EN
METHOD:PUBLISH
X-PUBLISHED-TTL:P3D
REFRESH-INTERVAL:P3D
CALSCALE:GREGORIAN
BEGIN:VEVENT
DTSTART;VALUE=DATE:20111119
DTEND;VALUE=DATE:20111120
TRANSP:TRANSPARENT
X-MICROSOFT-CDO-ALLDAYEVENT:TRUE
SUMMARY:Kick Up Your Heels for a Healthy Heart!
DESCRIPTION:NewburyportBusinesses: \n\nJoin Anna Jaques Hospital for the second annual Heart & Sole High Heel Dash\, brought to you by AJH and Interlocks Salon & Day Spa\, to help raise awareness for women's heart health. We are challenging men\, women\, and kids 12 and up to a 50-yard dash in high heels!\n\nPromote your organization by bringing a team to the race.\n\nLast year\, the challenge was met with gusto\, as a festive crowd in wigs\, Santa hats\, feathered boas\, and a wide range of colorful footwear hit the pavement for women's heart health. As spectators cheered and waved signs\, Team Interlocks Salon & Day Spa\, Team AMR Ambulance\, and Team Rasamaya led the pack to the finish line.\n\n\n\nThe Heart & Sole High Heel Dash is to remind men and women to take care of their hearts\, especially as we enter the winter holiday season:\n\n\n\nWe walk in different shoes\, but we share the same heart. Let's take care of it.\n\n\n\nSaturday\, November 19\, at the Newburyport Bartlet Mall.\n\nRace begins at 11:00(sharp)\; Registration opens at 10:30on race day. RSVP at www.ajh.org.
X-ALT-DESC;FMTTYPE=text/html:<span style="font-size: medium"><span style="font-family: cambria"><span style="font-family: cambria"><span style="font-size: 12pt">Newburyport</span></span><span style="font-family: cambria"><span style="font-size: 12pt">Businesses: </span></span><br />\nJoin Anna Jaques Hospital for the second annual Heart &amp\; Sole High Heel Dash\, brought to you by AJH and Interlocks Salon &amp\; Day Spa\, to help raise awareness for women&#39\;s heart health. We are challenging men\, women\, and kids 12 and up to a 50-yard dash&mdash\;in high heels!</span></span><br />\n<span style="font-size: medium"><span style="font-family: cambria">Promote your organization by bringing a team to the race.</span></span><br />\n<span style="font-size: medium"><span style="font-family: cambria"><span style="font-size: medium"><span style="font-family: cambria">Last year\, the challenge was met with gusto\, as a festive crowd in wigs\, Santa hats\, feathered boas\, and a wide range of colorful footwear hit the pavement for women&#39\;s heart health. As spectators cheered and waved signs\, Team Interlocks Salon &amp\; Day Spa\, Team AMR Ambulance\, and Team Rasamaya led the pack to the finish line.<br />\n<br />\nThe Heart &amp\; Sole High Heel Dash is to remind men and women to take care of their hearts\, especially as we enter the winter holiday season:<br />\n<br />\nWe walk in different shoes\, but we share the same heart. Let&#39\;s take care of it.</span></span><br />\n<br />\nSaturday\, November 19\, at the Newburyport Bartlet Mall.</span></span><br />\n<span style="font-family: cambria"><span style="font-size: 12pt">Race begins at </span></span><span style="font-family: cambria"><span style="font-size: 12pt">11:00</span></span><span style="font-family: cambria"><span style="font-size: 12pt">(sharp)\; Registration opens at </span></span><span style="font-family: cambria"><span style="font-size: 12pt">10:30</span></span><span style="font-family: cambria"><span style="font-size: 12pt">on race day.&nbsp\;RSVP at www.ajh.org.</span></span><br />\n<br />\n
LOCATION:Newburyport Bartlet Mall High & Pond Streets
UID:e.1189.2384
SEQUENCE:3
DTSTAMP:20260419T174023Z
URL:https://business.newburyportchamber.org/events/details/kick-up-your-heels-for-a-healthy-heart-11-19-2011-2384
END:VEVENT

END:VCALENDAR
