BEGIN:VCALENDAR
VERSION:2.0
PRODID:-//ChamberMaster//Event Calendar 2.0//EN
METHOD:PUBLISH
X-PUBLISHED-TTL:P3D
REFRESH-INTERVAL:P3D
CALSCALE:GREGORIAN
BEGIN:VEVENT
DTSTART:20170209T150000Z
DTEND:20170209T180000Z
X-MICROSOFT-CDO-ALLDAYEVENT:FALSE
SUMMARY:Job Fair
DESCRIPTION:Job Fair\n\n\n\nThursday\, February 2\, 2017\n\n\n\nNorthern Essex Community College\n\nHartleb Technology Building\n\n100 Elliott Street\n\nHaverhill\, Ma 01830
X-ALT-DESC;FMTTYPE=text/html:<br />\n<br />\n<strong>Job Fair</strong><br />\n<br />\nThursday\, February 2\, 2017<br />\n<br />\nNorthern Essex Community College<br />\nHartleb Technology Building<br />\n100 Elliott Street<br />\nHaverhill\, Ma 01830<br />\n&nbsp\;
LOCATION:
UID:e.1189.34144
SEQUENCE:3
DTSTAMP:20260420T171206Z
URL:https://business.newburyportchamber.org/events/details/job-fair-34144
END:VEVENT

END:VCALENDAR
