BEGIN:VCALENDAR
VERSION:2.0
PRODID:-//ChamberMaster//Event Calendar 2.0//EN
METHOD:PUBLISH
X-PUBLISHED-TTL:P3D
REFRESH-INTERVAL:P3D
CALSCALE:GREGORIAN
BEGIN:VEVENT
DTSTART:20111006T000000Z
DTEND:20111006T010000Z
X-MICROSOFT-CDO-ALLDAYEVENT:FALSE
SUMMARY:Jazz Vespers Event at Meeting House Conference and Function Rooms
DESCRIPTION:Jazz Vespers featuring the Tunes "Beautiful Love"\, "Gentle Rain"\, and "Blues for Alice."\n\n\n\nA short\, informal\, and spiruitual time to share live jazz and poetry.
X-ALT-DESC;FMTTYPE=text/html:Jazz Vespers featuring the Tunes &quot\;Beautiful Love&quot\;\, &quot\;Gentle Rain&quot\;\, and &quot\;Blues for Alice.&quot\;<br />\n<br />\nA short\, informal\, and spiruitual time to share live jazz and poetry. 
LOCATION:First Religious Society 26 Pleasant Street Newburyport
UID:e.1189.2284
SEQUENCE:3
DTSTAMP:20260419T191912Z
URL:https://business.newburyportchamber.org/events/details/jazz-vespers-event-at-meeting-house-conference-and-function-rooms-10-05-2011-2284
END:VEVENT

END:VCALENDAR
